BEGIN:VCALENDAR
VERSION:2.0
PRODID:-//Internat Solling - ECPv4.7.3//NONSGML v1.0//EN
CALSCALE:GREGORIAN
METHOD:PUBLISH
X-WR-CALNAME:Internat Solling
X-ORIGINAL-URL:https://www.internatsolling.de
X-WR-CALDESC:Veranstaltungen für Internat Solling
BEGIN:VEVENT
DTSTART;VALUE=DATE:20200305
DTEND;VALUE=DATE:20200306
DTSTAMP:20260423T211105
CREATED:20200109T084056Z
LAST-MODIFIED:20200312T142836Z
UID:10745-1583366400-1583452799@www.internatsolling.de
SUMMARY:Abendsprache Skifahrt
DESCRIPTION:		\n						\n						\n					\n			\n						\n				\n							In der Abendsprache vom 5. März berichteten Damian\, Annika und Sophie\, stellvertretend für ihre Klassenkameraden über die Skifahrt der 8. Klasse. Traditionell geht es im Februar für die jeweiligen 8-klässler nach Österreich in den Schnee und den gab es in diesem Jahr reichlich. Und zwar so viel\, dass die Lifte gesperrt und Skilaufen für mehrere Tage nicht möglich war. Der guten Stimmung tat das keinen Abbruch; die Jugendlichen genossen den Spaß in den Bergen mit Schneeballschlachten und machten auch vor Frau Gensheimer keinen Halt. Sie wurde ordentlich eingeseift und spielte fröhlich mit. Im zweiten Teil des Abends berichtete Frau von Nerée über die Skifreizeit in den Winterferien für die internationalen Schüler. Frau von Nerée organisierte und begleitete beide Fahrten und erzählte in ihrem Vortrag über das abwechslungsreiche Skigebiet um Mauterndorf mit seinen vielen Pisten und Freizeitmöglichkeiten. 						\n				\n				\n				\n																										\n				\n					\n		\n					\n		\n				\n						\n					\n			\n						\n				\n					\n			\n		\n				\n				\n					\n		\n					\n		\n				\n		
URL:https://www.internatsolling.de/event/abendsprache-skifahrt/
CATEGORIES:Abendsprache,Aktuelles,Intern
ATTACH;FMTTYPE=image/gif:https://www.internatsolling.de/wp-content/uploads/2020/03/Skifahrt_Klasse_8_1.gif
END:VEVENT
END:VCALENDAR