BEGIN:VCALENDAR
VERSION:2.0
PRODID:-//Internat Solling - ECPv4.7.3//NONSGML v1.0//EN
CALSCALE:GREGORIAN
METHOD:PUBLISH
X-WR-CALNAME:Internat Solling
X-ORIGINAL-URL:https://www.internatsolling.de
X-WR-CALDESC:Veranstaltungen für Internat Solling
BEGIN:VEVENT
DTSTART;VALUE=DATE:20240225
DTEND;VALUE=DATE:20240226
DTSTAMP:20260419T135427
CREATED:20240227T084712Z
LAST-MODIFIED:20240227T122014Z
UID:28186-1708819200-1708905599@www.internatsolling.de
SUMMARY:Abendsprache zu 2 Jahre Ukraine-Krieg
DESCRIPTION:		\n						\n						\n					\n			\n						\n				\n							Die Schülerinnen und Schüler des Politik-Leistungskurs 13 von und mit Frau von Nerée beschäftigten sich in der Abendsprache mit dem Krieg in der Ukraine. Es wurde schwerpunktmäßig über die Folgen des Krieges berichtet. Im Mittelpunt stand der Besuch und die Befragung von Luidmyla Maistro\, einer Ukrainerin aus Odessa\, die in der Georg-von-Langen-Schule in Holzminden mit Kolleginnen 75 jugendlichen Flüchtlingen Unterricht erteilt. Sie berichtete von den Lebensumständen in der Ukraine und als Flüchtling.Eine Kooperation und mehrere Projekte im Bereich Sport\, Kunst\, Politik und Kultur werden aus dieser Begegnung entstehen\, zumal das Thema unseres diesjährigen UNESCO-Projektjahres lautet: Frieden! #händereichen #brückenbauen. Die Abendsprache war wie ein kleiner UNESCO-Projekttag\, alle Anwesenden durchwehte der UNESCO-Geist\, sich für das Gute\, für Verständigung und Frieden einzusetzen. Zwei ukrainische Schülerinnendes Internats steuerten bewegende eigene Bilder zu diesem eindrucksvollen Gedenken bei. 						\n				\n				\n				\n					\n			\n											\n							\n									\n									\n				\n				\n					\n		\n					\n		\n				\n		
URL:https://www.internatsolling.de/event/abendsprache-zu-2-jahre-ukraine-krieg/
LOCATION:Internat Solling\, 37603\, Holzminden\, Niedersachsen\, 37603\, Deutschland
CATEGORIES:Abendsprache,Aktuelles
ATTACH;FMTTYPE=image/gif:https://www.internatsolling.de/wp-content/uploads/2024/02/Abendsprache-Ukraine-Krieg_1.gif
ORGANIZER;CN="Internat%20Solling":MAILTO:info@internatsolling.de
END:VEVENT
END:VCALENDAR