BEGIN:VCALENDAR
VERSION:2.0
PRODID:-//Internat Solling - ECPv4.7.3//NONSGML v1.0//EN
CALSCALE:GREGORIAN
METHOD:PUBLISH
X-WR-CALNAME:Internat Solling
X-ORIGINAL-URL:https://www.internatsolling.de
X-WR-CALDESC:Veranstaltungen für Internat Solling
BEGIN:VEVENT
DTSTART;VALUE=DATE:20211003
DTEND;VALUE=DATE:20211004
DTSTAMP:20260423T105208
CREATED:20211005T082201Z
LAST-MODIFIED:20211005T083542Z
UID:18985-1633219200-1633305599@www.internatsolling.de
SUMMARY:Abendsprache zum Tag der Deutschen Einheit
DESCRIPTION:		\n						\n						\n					\n			\n						\n				\n							In der Abendsprache zum Tag der Deutschen Einheit legte Geschichtslehrerin Anja Ruppert ihren Schwerpunkt auf das Lied der Deutschen\, dessen Entstehung und wechselhafte Geschichte. Seit 1991 ist die dritte Strophe des von Hoffmann von Fallersleben verfassten Liedes als Nationalhymne Deutschlands anerkannt. Damit hat das Lied auch einen regionalen Bezug\, denn das Grab Hoffmann von Fallerslebens befindet sich auf dem Friedhof des Klosters Corvey.  Die Abendsprachen von Frau Ruppert sind immer wieder eine sehr aufschlussreiche und spannende Darstellung historischer Zusammenhänge. 						\n				\n					\n		\n					\n		\n				\n						\n					\n			\n						\n				\n					\n			\n		\n				\n				\n					\n		\n					\n		\n				\n		
URL:https://www.internatsolling.de/event/abendsprache-zum-tag-der-deutschen-einheit/
CATEGORIES:Abendsprache,Aktuelles
END:VEVENT
END:VCALENDAR