BEGIN:VCALENDAR
VERSION:2.0
PRODID:-//Internat Solling - ECPv4.7.3//NONSGML v1.0//EN
CALSCALE:GREGORIAN
METHOD:PUBLISH
X-WR-CALNAME:Internat Solling
X-ORIGINAL-URL:https://www.internatsolling.de
X-WR-CALDESC:Veranstaltungen für Internat Solling
BEGIN:VEVENT
DTSTART;VALUE=DATE:20200702
DTEND;VALUE=DATE:20200703
DTSTAMP:20260419T165739
CREATED:20200707T121654Z
LAST-MODIFIED:20200707T121849Z
UID:12777-1593648000-1593734399@www.internatsolling.de
SUMMARY:Besondere Momente in der Hohen Halle
DESCRIPTION:		\n						\n						\n					\n			\n						\n				\n							Der eine ist noch nicht mit den Hausaufgaben fertig\, der andere will lieber weiterzocken. Die nächste hat gerade Knatsch mit ihrer Freundin und möchte sich die Decke über den Kopf ziehen und wieder eine andere möchte eigentlich ins Fitness-Studio. Und doch treffen sich alle in der Hohen Halle zur Abendsprache\, aber eben oft mit den Gedanken ganz woanders. Und dann sitzt da dieser Sechzehnjährige am Flügel und beginnt zu spielen – Beethovens Sonate Nr. 1 in f-Moll\, Brahms Rhapsodie Nr. 2 op. 79 in g-Moll und die Suggestion Diabolique op. 4 in C-Dur von Prokofjew. Plötzlich ist da nur noch diese Musik\, die uns einnimmt und der Junge\, der mit dem Klavier zu verschmelzen scheint. Aus der Schweiz ist er erst vor kurzem hergezogen mit seiner Familie\, um in Detmold an den Kursen des Jungstudierenden Instituts seine musikalischen Fähigkeiten zu optimieren. Hoffentlich tut Jonas Johann auf der Heide das noch ein bisschen und kommt nochmal bei uns vorbei\, denn er spielt wunderbar und sorgt so für einen kurzen Moment der Muße in unserem hektischen Alltag. 						\n				\n					\n		\n					\n		\n				\n						\n					\n			\n						\n				\n					\n			\n		\n				\n				\n					\n		\n					\n		\n				\n		
URL:https://www.internatsolling.de/event/besondere-momente-in-der-hohen-halle/
CATEGORIES:Abendsprache,Aktuelles
ATTACH;FMTTYPE=image/gif:https://www.internatsolling.de/wp-content/uploads/2020/07/Jonas_InternatSolling_1.gif
END:VEVENT
END:VCALENDAR