BEGIN:VCALENDAR
VERSION:2.0
PRODID:-//Internat Solling - ECPv4.7.3//NONSGML v1.0//EN
CALSCALE:GREGORIAN
METHOD:PUBLISH
X-WR-CALNAME:Internat Solling
X-ORIGINAL-URL:https://www.internatsolling.de
X-WR-CALDESC:Veranstaltungen für Internat Solling
BEGIN:VEVENT
DTSTART;VALUE=DATE:20250701
DTEND;VALUE=DATE:20250702
DTSTAMP:20260419T173214
CREATED:20250702T075842Z
LAST-MODIFIED:20250702T083840Z
UID:33000-1751328000-1751414399@www.internatsolling.de
SUMMARY:Besuch im Amtsgericht Holzminden
DESCRIPTION:		\n						\n						\n					\n			\n						\n				\n							Am Dienstag\, dem 1. Juli\, nahmen beide 8. Klassen an einer Gerichtsverhandlung am Amtsgericht Holzminden teil. Dabei wurden zwei umfangreiche Verfahren wegen Widerstands gegen die Staatsgewalt in Verbindung mit gefährlicher Körperverletzung verhandelt.Richter Jan Scharfetter nahm sich viel Zeit\, um den Schülerinnen und Schülern anschaulich Sinn und Zweck rechtlicher Entscheidungen sowie die Rolle des Staates in unserem Rechtsstaat zu erläutern. Lernen fand an diesem Tag nicht aus Büchern\, sondern durch direkte Erfahrung statt.Besonders eindrucksvoll war\, wie die beiden Angeklagten versuchten\, sich herauszureden – so durchschaubar\, dass bei vielen die Lust verging\, jemals selbst Ausreden zu erfinden. Pädagogik wirkte hier durch Ernüchterung und die Begegnung mit der Realität – ganz ohne moralischen Zeigefinger.Text und Foto: Donata von Nerée 						\n				\n					\n		\n					\n		\n				\n						\n					\n			\n						\n				\n					\n			\n		\n				\n				\n					\n		\n					\n		\n				\n		
URL:https://www.internatsolling.de/event/besuch-im-amtsgericht-holzminden/
LOCATION:Internat Solling\, 37603\, Holzminden\, Niedersachsen\, 37603\, Deutschland
CATEGORIES:Aktuelles
ATTACH;FMTTYPE=image/gif:https://www.internatsolling.de/wp-content/uploads/2025/07/Amtsgericht_InternatSolling.gif
ORGANIZER;CN="Internat%20Solling":MAILTO:info@internatsolling.de
END:VEVENT
END:VCALENDAR