BEGIN:VCALENDAR
VERSION:2.0
PRODID:-//Internat Solling - ECPv4.7.3//NONSGML v1.0//EN
CALSCALE:GREGORIAN
METHOD:PUBLISH
X-WR-CALNAME:Internat Solling
X-ORIGINAL-URL:https://www.internatsolling.de
X-WR-CALDESC:Veranstaltungen für Internat Solling
BEGIN:VEVENT
DTSTART;VALUE=DATE:20240603
DTEND;VALUE=DATE:20240608
DTSTAMP:20260421T175442
CREATED:20240610T135900Z
LAST-MODIFIED:20240610T141215Z
UID:28985-1717372800-1717804799@www.internatsolling.de
SUMMARY:Das Girls-Camp der Math Talent School
DESCRIPTION:		\n						\n						\n					\n			\n						\n				\n							Das Mathe Girls MINT-Camp in Kaiserslautern ist eine hervorragende Möglichkeit für Oberstufenschülerinnen\, sich intensiv mit mathematischen und naturwissenschaftlich-technischen Themen auseinanderzusetzen. Hier sind einige der wichtigsten Punkte und Informationen über das Camp:Ort und Organisation• Ort: Felix Klein Zentrum\, Rheinland-Pfälzische Technische Universität Kaiserslautern-Landau (RPTU).• Veranstalter: Das Camp wurde vom Netzwerk MINT EC organisiert.• Teilnehmerinnen: 18 Schülerinnen aus ganz Deutschland\, darunter Lilly und Leni vom Internat Solling.Projekte und AktivitätenZu Beginn der Woche hatten die Teilnehmerinnen die Auswahl zwischen drei verschiedenen Projekten:1. Vliesstoffe intelligent produzieren: Hierbei ging es wahrscheinlich um die Optimierung der Produktion von Vliesstoffen durch mathematische Modelle und Simulationen.2. Mathematische Modellierung von Kratzern: Dieses Projekt könnte die Analyse und Vorhersage von Kratzermustern auf Materialien durch mathematische Methoden umfassen.3. Herumzappelnde kleine Teilchen – Vom „Random Walk“ zur Diffusion: Bei diesem Projekt handelt es sich um die Untersuchung des Zufallsbewegungsmusters (Random Walk) und dessen Verbindung zur Diffusion.Die Teilnehmerinnen näherten sich diesen Problemstellungen mithilfe von mathematischer Modellierung und Computersimulationen. Zum Abschluss wurden die erarbeiteten Ergebnisse in der Gruppe präsentiert.Einblicke und ErfahrungenNeben den Projekten erhielten die Teilnehmerinnen wertvolle Einblicke in das Institut und den Fachbereich Mathematik der RPTU. Diese Erfahrungen helfen den Schülerinnen\, ein besseres Verständnis für die akademische und praktische Seite der Mathematik zu entwickeln und mögliche zukünftige Studien- oder Berufsfelder zu erkunden.Bewerbung und TeilnahmeSchülerinnen des Internats Solling und anderer MINT EC Schulen müssen sich direkt bei MINT EC bewerben\, um an solchen Camps teilnehmen zu können.Insgesamt bietet das Mathe Girls MINT-Camp eine einzigartige Gelegenheit\, mathematische Themen praxisnah zu erleben und sich mit Gleichgesinnten auszutauschen. 						\n				\n				\n				\n																										\n				\n					\n		\n					\n		\n				\n						\n					\n			\n							\n		\n					\n		\n				\n		
URL:https://www.internatsolling.de/event/das-girls-camp-der-math-talent-school/
LOCATION:Internat Solling\, 37603\, Holzminden\, Niedersachsen\, 37603\, Deutschland
CATEGORIES:Aktuelles,MINT
ATTACH;FMTTYPE=image/gif:https://www.internatsolling.de/wp-content/uploads/2024/06/Girls_MINT-Camp_InternatSolling_1.gif
ORGANIZER;CN="Internat%20Solling":MAILTO:info@internatsolling.de
END:VEVENT
END:VCALENDAR