BEGIN:VCALENDAR
VERSION:2.0
PRODID:-//Internat Solling - ECPv4.7.3//NONSGML v1.0//EN
CALSCALE:GREGORIAN
METHOD:PUBLISH
X-WR-CALNAME:Internat Solling
X-ORIGINAL-URL:https://www.internatsolling.de
X-WR-CALDESC:Veranstaltungen für Internat Solling
BEGIN:VEVENT
DTSTART;VALUE=DATE:20210510
DTEND;VALUE=DATE:20210511
DTSTAMP:20260421T232401
CREATED:20210510T134428Z
LAST-MODIFIED:20210510T134803Z
UID:16588-1620604800-1620691199@www.internatsolling.de
SUMMARY:Der12er Englischkurs frühstückt ...
DESCRIPTION:		\n						\n						\n					\n			\n						\n				\n							Kurz vor den Pfingsferien gönnt man sich ein Frühstück. Hier Impressionen des English Breakfast des 12er Englischkurses von Frau von Massenbach. Titel “ A Really British Affair – including many typical delights“. 						\n				\n				\n				\n																										\n				\n					\n		\n					\n		\n				\n						\n					\n			\n						\n				\n					\n			\n		\n				\n				\n					\n		\n					\n		\n				\n		
URL:https://www.internatsolling.de/event/der12er-englischkurs-fruehstueckt/
CATEGORIES:Aktuelles
ATTACH;FMTTYPE=image/jpeg:https://www.internatsolling.de/wp-content/uploads/2021/05/English_breakfast_InternatSolling_1.jpg
END:VEVENT
END:VCALENDAR