BEGIN:VCALENDAR
VERSION:2.0
PRODID:-//Internat Solling - ECPv4.7.3//NONSGML v1.0//EN
CALSCALE:GREGORIAN
METHOD:PUBLISH
X-WR-CALNAME:Internat Solling
X-ORIGINAL-URL:https://www.internatsolling.de
X-WR-CALDESC:Veranstaltungen für Internat Solling
BEGIN:VEVENT
DTSTART;TZID=Europe/Berlin:20240612T080000
DTEND;TZID=Europe/Berlin:20240612T170000
DTSTAMP:20260421T013543
CREATED:20240612T111832Z
LAST-MODIFIED:20240612T131906Z
UID:29030-1718179200-1718211600@www.internatsolling.de
SUMMARY:Deutsche Schulmeisterschaft im Rugby gewonnen
DESCRIPTION:		\n						\n						\n					\n			\n						\n				\n							Am Dienstag\, den 11. Juni\, nahmen die Rugbymannschaften des Internat Solling erfolgreich an den Deutschen Schulmeisterschaften (DSM) 2024 in Erfurt teil! Insgesamt wurden bei dem Turnier neun Spiele ausgetragen\, wobei das Team Solling in allen ihren drei Spielen siegte und sich somit den ersten Platz in der Gruppenphase sicherte.Das LSH bestritt insgesamt sechs Spiele in drei Kategorien\, wobei jedes Team zwei große Spiele hatte. Die Wettkampfklasse I männlich (die großen Jungs) errang den ersten Platz und somit den Titel des Deutschen Schulmeisters. Die Mädchen in der Wettkampfklasse I weiblich erreichten den zweiten Platz und wurden Vizemeister. Unsere dritte Kategorie\, die Wettkampfklasse II männlich\, belegte den dritten Platz. Die Wettkampfklasse I männlich absolvierte zusätzlich ein Freundschaftsspiel gegen die Senior-Mannschaft aus Erfurt\, welches sie ebenfalls für sich entscheiden konnten – ein cooles Extra-Erlebnis.Herzlichen Glückwunsch an das gesamte Team und die Koordinatorin\, Frau Dr. Jade Lopez Aledo! Diese herausragende Leistung ist besonders beeindruckend\, da die Mannschaft noch nicht über viel Spielerfahrung verfügt. Ihr besonderer Team- und Kampfgeist trugen maßgeblich zu diesem Erfolg bei und brachten den verdienten Sieg nach Hause. 						\n				\n				\n				\n																										\n				\n					\n		\n					\n		\n				\n						\n					\n			\n						\n				\n					\n			\n		\n				\n				\n					\n		\n					\n		\n				\n		
URL:https://www.internatsolling.de/event/deutsche-schulmeisterschaft-im-rugby-gewonnen/
LOCATION:Internat Solling\, 37603\, Holzminden\, Niedersachsen\, 37603\, Deutschland
CATEGORIES:Aktuelles,Sport
ATTACH;FMTTYPE=image/gif:https://www.internatsolling.de/wp-content/uploads/2024/06/Rugby-Schulmeister_InternatSolling_2.gif
ORGANIZER;CN="Internat%20Solling":MAILTO:info@internatsolling.de
END:VEVENT
END:VCALENDAR