BEGIN:VCALENDAR
VERSION:2.0
PRODID:-//Internat Solling - ECPv4.7.3//NONSGML v1.0//EN
CALSCALE:GREGORIAN
METHOD:PUBLISH
X-WR-CALNAME:Internat Solling
X-ORIGINAL-URL:https://www.internatsolling.de
X-WR-CALDESC:Veranstaltungen für Internat Solling
BEGIN:VEVENT
DTSTART;VALUE=DATE:20190502
DTEND;VALUE=DATE:20190503
DTSTAMP:20260422T123204
CREATED:20190502T124429Z
LAST-MODIFIED:20190704T124442Z
UID:3423-1556755200-1556841599@www.internatsolling.de
SUMMARY:Die 11. Klasse und die Bande vom Olymp
DESCRIPTION:L wie Latein und langweilig? Nein\, eher L wie lustig. Denn das die Lateinklasse von Frau Dr. Loske eine Menge Spaß im Unterricht haben muss\, bewies die Abendsprache über Zeus und seine Bande. Vier Schüler fanden die Geschichten vom Olymp nämlich so spannend\, dass sie sie ihren Mitschülern unbedingt erzählen wollten. Sie taten dies so unterhaltsam und witzig\, dass in der Hohen Halle an diesem Abend vor allem gelacht wurde. Dass ein Lateinkurs überhaupt über griechische Götter sprechen würde\, sei der Tatsache geschuldet\, dass die Lateiner den Griechen die Hauptverantwortlichen wohl abgekupfert hätten. Und so schildern Anna-Lena\, Margarete\, Sandra und Till das Chaos um Uranus und Gaia und deren Kinder\, die alle irgendwie entartet seien; sie erzählen vom untreuen Zeus und seinen zahllosen Affären\, von Pallas-Athene und der Stadtgründung Athens und von der Erfindung der Lyra durch Hermes; auch Artemis und ihr Zwillingsbruder Apoll werden vorgestellt\, ebenso Dionysos\, der Gott des Weines\, der Feier und der Fruchtbarkeit. Am Ende der kurzweiligen Veranstaltung wurde laut und lang applaudiert und man ging gut gelaunt seiner Wege. \n
URL:https://www.internatsolling.de/event/die-11-klasse-und-die-bande-vom-olymp/
CATEGORIES:Abendsprache,Aktuelles
ATTACH;FMTTYPE=image/jpeg:https://www.internatsolling.de/wp-content/uploads/2019/07/Mythologie_Latein_Klasse_11.jpg
END:VEVENT
END:VCALENDAR