BEGIN:VCALENDAR
VERSION:2.0
PRODID:-//Internat Solling - ECPv4.7.3//NONSGML v1.0//EN
CALSCALE:GREGORIAN
METHOD:PUBLISH
X-WR-CALNAME:Internat Solling
X-ORIGINAL-URL:https://www.internatsolling.de
X-WR-CALDESC:Veranstaltungen für Internat Solling
BEGIN:VEVENT
DTSTART;VALUE=DATE:20220430
DTEND;VALUE=DATE:20220501
DTSTAMP:20260419T142508
CREATED:20220505T080353Z
LAST-MODIFIED:20220505T081109Z
UID:21659-1651276800-1651363199@www.internatsolling.de
SUMMARY:Dressurlehrgang im Internat Solling
DESCRIPTION:		\n						\n						\n					\n			\n						\n				\n							Am letzten Samstag im April war wieder einmal Reitlehrer und Ausbilder Hendrik Gäbel aus Duderstadt zu Gast im Internat\, um intensiv mit 10 Schülerinnen und Schülern zu trainieren. Dabei waren die unterschiedlichsten Alters- und Leistungsklassen vertreten\, denn dieses Mal durften auch die Jüngsten mitreiten. Dank des guten Reitunterrichts durch die Reitlehrerinnen der Internatsreitschule haben diese auf eigenen Pferden und Ponys ein gutes Ausbildungsniveau erreicht. Das bestätigte auch Hendrik Gäbel\, der seit vielen Jahren freundschaftlich mit den Holzmindener Reitern verbunden ist und mindestens zweimal pro Jahr für einem Lehrgang verpflichtet wird.\n \nNeben der Basisarbeit mit den 12- bis 14-Jährigen war natürlich auch konzentriertes\, intensives Training auf A- und L-Niveau mit den fortgeschrittenen Reiterinnen angesagt. Durch den Lehrgang gab es für die ambitionierten Turniereiterinnen noch einmal gute Impulse für die laufende Turniersaison. Auch für die Springreiter fand in diesem Jahr schon ein Wochenendlehrgang statt. Es hat Tradition\, dass man im Solling immer wieder externe Ausbilder verpflichtet. Das stellt keine Konkurrenz zu den heimischen Trainerinnen dar – so Dr. Sofie Albert-Meisieck\, seit vielen Jahren Leiterin des internatseigenen Reitbetriebs – sondern ist eine sinnvolle Ergänzung und gute Abwechslung im Trainingsalltag.\n 						\n				\n					\n		\n					\n		\n				\n						\n					\n			\n						\n				\n					\n			\n		\n				\n				\n					\n		\n					\n		\n				\n		
URL:https://www.internatsolling.de/event/dressurlehrgang-im-internat-solling-2/
CATEGORIES:Aktuelles,Sport,Veranstaltungen
ATTACH;FMTTYPE=image/gif:https://www.internatsolling.de/wp-content/uploads/2022/05/Lehrgang_Mai_2022.gif
END:VEVENT
END:VCALENDAR