BEGIN:VCALENDAR
VERSION:2.0
PRODID:-//Internat Solling - ECPv4.7.3//NONSGML v1.0//EN
CALSCALE:GREGORIAN
METHOD:PUBLISH
X-WR-CALNAME:Internat Solling
X-ORIGINAL-URL:https://www.internatsolling.de
X-WR-CALDESC:Veranstaltungen für Internat Solling
BEGIN:VEVENT
DTSTART;VALUE=DATE:20221110
DTEND;VALUE=DATE:20221111
DTSTAMP:20260419T183032
CREATED:20221115T102752Z
LAST-MODIFIED:20221115T104613Z
UID:24785-1668038400-1668124799@www.internatsolling.de
SUMMARY:Ein DAX-Unternehmen und die Nachhaltigkeit
DESCRIPTION:		\n						\n						\n					\n			\n						\n				\n							In der Abendsprache am 10. November war Dr. Helmut Frieden zu Gast. Herr Frieden ist beim lokalen DAX-Unternehmen Symrise AG als Vice President Corporate Sustainability verantwortlich für diverse Bereiche\, die sich dem großen Themenfeld der „Nachhaltigkeit“ zuordnen lassen. Durch seinen unterhaltsamen Vortrag gab Dr. Frieden den interessieren Zuhörern sowohl einen Einblick in das Innenleben des global player Symrise als einem der bedeutendsten Unternehmen hier in Holzminden als auch einen detaillierten Überblick über verschiedene Aktivitäten\, um nachhaltiger zu agieren. Da unsere Schule mit der Arbeitsgemeinschaft „Klimaneutrales Internat“ in diesem Bereich ebenfalls aktiv ist\, konnten wir durch die Abendsprache wertvolle Anregungen sammeln. Zudem präsentierte Herr Frieden insbesondere für die Schüler:innen\, die sich in nächster Zeit für ein Praktikum im naturwissenschaftlichen Bereich interessieren\, einen potenziellen Praktikumsbetrieb.   						\n				\n					\n		\n					\n		\n				\n						\n					\n			\n						\n				\n					\n			\n		\n				\n				\n					\n		\n					\n		\n				\n		
URL:https://www.internatsolling.de/event/ein-dax-unternehmen-und-die-nachhaltigkeit/
LOCATION:Internat Solling\, 37603\, Holzminden\, Niedersachsen\, 37603\, Deutschland
CATEGORIES:Abendsprache,Aktuelles
ATTACH;FMTTYPE=image/jpeg:https://www.internatsolling.de/wp-content/uploads/2022/11/Abendsprache-Symrise_Nachhaltigkeit_InternatSolling.jpg
ORGANIZER;CN="Internat%20Solling":MAILTO:info@internatsolling.de
END:VEVENT
END:VCALENDAR