BEGIN:VCALENDAR
VERSION:2.0
PRODID:-//Internat Solling - ECPv4.7.3//NONSGML v1.0//EN
CALSCALE:GREGORIAN
METHOD:PUBLISH
X-WR-CALNAME:Internat Solling
X-ORIGINAL-URL:https://www.internatsolling.de
X-WR-CALDESC:Veranstaltungen für Internat Solling
BEGIN:VEVENT
DTSTART;VALUE=DATE:20250504
DTEND;VALUE=DATE:20250505
DTSTAMP:20260419T181607
CREATED:20250513T131001Z
LAST-MODIFIED:20250513T132755Z
UID:32743-1746316800-1746403199@www.internatsolling.de
SUMMARY:Ein erfolgreicher Informationstag für Internat und Schule
DESCRIPTION:		\n						\n						\n					\n			\n						\n				\n							Am vergangenen Sonntag öffnete das Internat Solling bei strahlendem Sonnenschein seine Türen für zahlreiche interessierte Familien. Der alljährliche Informationstag bot Gelegenheit\, unsere Schule und das Leben im Internat aus nächster Nähe kennenzulernen – persönlich\, lebendig und facettenreich.In entspannter Atmosphäre fanden viele Gespräche mit unserer Schulleiterin sowie mit Fachlehrerinnen und Fachlehrern statt. Dabei erhielten die Gäste nicht nur Einblicke in unsere pädagogischen Konzepte und den Schulalltag\, sondern konnten sich auch ein authentisches Bild von unserem besonderen Lern- und Lebensort machen.Besonders eindrucksvoll war die herzliche Begleitung durch unsere Schülerinnen und Schüler\, die die Besuchergruppen über das Gelände führten\, Fragen beantworteten und ihre ganz persönliche Sicht auf den Alltag im Internat teilten.Ein vielfältiges Rahmenprogramm präsentierte die breite Angebotspalette des Internats Solling:Ob beim Töpfern\, Tischlern oder Schmieden\, beim Tennis oder in der Feuerwehr-AG\, in der Sternwarte\, dem Fitnessstudio oder beim Besuch der technisch raffinierten Projekte im Makerspace – überall gab es etwas zu entdecken\, auszuprobieren oder mitzugestalten. Auch der Reitbereich\, aktuelle Theater- und Musikproben sowie weitere kreative und sportliche Aktivitäten gaben einen lebendigen Einblick in das umfassende Freizeitangebot am LSH.Der Tag war geprägt von vielen offenen Begegnungen\, neugierigen Fragen\, strahlenden Gesichtern und echten Eindrücken – und hat hoffentlich bei vielen Gästen den Wunsch geweckt\, selbst Teil dieser besonderen Gemeinschaft zu werden.Wir danken allen Beteiligten – besonders unseren engagierten Schülerinnen und Schülern – für ihr Mitwirken und freuen uns schon jetzt auf den nächsten Informationstag! 						\n				\n				\n				\n					\n			\n											\n							\n									\n									\n				\n				\n					\n		\n					\n		\n				\n		
URL:https://www.internatsolling.de/event/ein-erfolgreicher-informationstag-fuer-internat-und-schule/
LOCATION:Internat Solling\, 37603\, Holzminden\, Niedersachsen\, 37603\, Deutschland
CATEGORIES:Aktuelles
ATTACH;FMTTYPE=image/gif:https://www.internatsolling.de/wp-content/uploads/2025/05/Informationstag_Unterhaushof_1.gif
ORGANIZER;CN="Internat%20Solling":MAILTO:info@internatsolling.de
END:VEVENT
END:VCALENDAR