BEGIN:VCALENDAR
VERSION:2.0
PRODID:-//Internat Solling - ECPv4.7.3//NONSGML v1.0//EN
CALSCALE:GREGORIAN
METHOD:PUBLISH
X-WR-CALNAME:Internat Solling
X-ORIGINAL-URL:https://www.internatsolling.de
X-WR-CALDESC:Veranstaltungen für Internat Solling
BEGIN:VEVENT
DTSTART;VALUE=DATE:20201104
DTEND;VALUE=DATE:20201105
DTSTAMP:20260420T211914
CREATED:20201105T105954Z
LAST-MODIFIED:20201105T110143Z
UID:14052-1604448000-1604534399@www.internatsolling.de
SUMMARY:Ein neues Zuhause für die Pferde
DESCRIPTION:		\n						\n						\n					\n			\n						\n				\n							Um unsere Reitanlage noch attraktiver zu machen\, haben wir im vergangenen Jahr beschlossen\, eine neue Stallanlage zu bauen. Sie sollte ihren Platz praktischerweise direkt neben der Reithalle finden. Die Planungen waren zügig abgeschlossen\, ein Anbieter für einen attraktiven und bezahlbaren Stall schnell gefunden\, aber dann begann das große Warten. Leider gestaltete sich die Zusammenarbeit mit der Baubehörde eher schwierig. Endlich kam dann nach Teilgenehmigungen zur großen Freude der Pferdefreunde im August die endgültige Baugenehmigung. Da die Bodenplatte mit ca. 11 x 65 m bereits seit längerem schon fertiggestellt war\, konnte nun Ende Oktober die Montage beginnen. Jetzt kann man beim Wachsen des Gebäudes förmlich zuschauen. Jeden Tag\, wenn man die Baustelle betritt\, ist wieder etwas fertig gestellt worden. Trotzdem wird es noch dauern\, die die Pferde ihr neues Domizil beziehen können\, denn der Innenausbau wird noch viel Zeit in Anspruch nehmen. Also üben wir uns in Vorfreude! 						\n				\n				\n				\n																										\n				\n					\n		\n					\n		\n				\n						\n					\n			\n						\n				\n					\n			\n		\n				\n				\n					\n		\n					\n		\n				\n		
URL:https://www.internatsolling.de/event/ein-neues-zuhause-fuer-die-pferde/
CATEGORIES:Aktuelles,Sport
ATTACH;FMTTYPE=image/jpeg:https://www.internatsolling.de/wp-content/uploads/2020/11/Stallbau-3_InternatSolling_Reitinternat.jpg
END:VEVENT
END:VCALENDAR