BEGIN:VCALENDAR
VERSION:2.0
PRODID:-//Internat Solling - ECPv4.7.3//NONSGML v1.0//EN
CALSCALE:GREGORIAN
METHOD:PUBLISH
X-WR-CALNAME:Internat Solling
X-ORIGINAL-URL:https://www.internatsolling.de
X-WR-CALDESC:Veranstaltungen für Internat Solling
BEGIN:VEVENT
DTSTART;VALUE=DATE:20191109
DTEND;VALUE=DATE:20191110
DTSTAMP:20260421T142603
CREATED:20191121T125925Z
LAST-MODIFIED:20191121T130031Z
UID:10014-1573257600-1573343999@www.internatsolling.de
SUMMARY:Erinnerungstafel am jüdischen Friedhof
DESCRIPTION:		\n						\n						\n					\n			\n						\n				\n							Zum Jahrestag der Pogromnacht fand am alten jüdischen Friedhof am Beukampsborn eine Gedenkveranstaltung statt\, bei der auch eine Erinnerungstafel eingeweiht wurde. Ähnliche Tafeln sind auch am Standort des Internierungslagers aus dem Ersten Weltkrieg an der Einbecker Straße gegenüber unserer Einfahrt und auf dem Thingplatz am Stadtpark installiert worden. Anja Ruppert nahm mit drei Schülerinnen an der Veranstaltung teil und Klaus Kieckbusch\, inoffizieller Stadtarchivar\, gab Erläuterungen zu diesem und den weiteren jüdischen Friedhöfen in Holzminden\, dessen Patenschaft das Internat Solling im November 2015 übernommen hat. Auch die stellvertretende Ratsvorsitzende Marlies Linnemann war anwesend und erklärte\, wie wichtig es sei\, die Geschichte auch an den Orten wachzuhalten\, an denen man sie nicht mehr ablesen kann. „Das darf nie wieder passieren“\, sagte sie. 						\n				\n				\n				\n																										\n				\n					\n		\n					\n		\n				\n						\n					\n			\n						\n				\n					\n			\n		\n				\n				\n					\n		\n					\n		\n				\n		
URL:https://www.internatsolling.de/event/erinnerungstafel-am-juedischen-friedhof/
CATEGORIES:Aktuelles
ATTACH;FMTTYPE=image/gif:https://www.internatsolling.de/wp-content/uploads/2019/11/Progromnacht_2019_2.gif
END:VEVENT
END:VCALENDAR