BEGIN:VCALENDAR
VERSION:2.0
PRODID:-//Internat Solling - ECPv4.7.3//NONSGML v1.0//EN
CALSCALE:GREGORIAN
METHOD:PUBLISH
X-WR-CALNAME:Internat Solling
X-ORIGINAL-URL:https://www.internatsolling.de
X-WR-CALDESC:Veranstaltungen für Internat Solling
BEGIN:VEVENT
DTSTART;VALUE=DATE:20190519
DTEND;VALUE=DATE:20190520
DTSTAMP:20260422T015252
CREATED:20190517T142149Z
LAST-MODIFIED:20190704T142214Z
UID:3473-1558224000-1558310399@www.internatsolling.de
SUMMARY:Graffiti Workshop am 19. Mai
DESCRIPTION:Immer wieder Graffiti\, immer wieder Musenhof!\nLSH – HOME OF THE WORLD leuchtet dieses Jahr in bunten Farben zwischen den Seifenblasen. „Wir sind international! Die Schüler kommen aus der ganzen Welt und das sollten wir zeigen!“ meinte Sofia\, während wir auf der Suche nach einem neuen Piece die Ideen austauschten. Da fehlten nur die passenden Worte und das Design. \nSeit sechs Jahren wird die Wand am Musenhof von LSH-Schülern und Christian Hermann alias Krishy aus Oldenburg und Berlin im Rahmen des Wochenendprogramms neu gestaltet. Während des Kunstunterrichts grundierten die Schüler der 7. Klasse mit Frau Weil die neue Wandverkleidung. Vielen Dank an dieser Stelle an Herr Traue und Herr Schleise. \nUnd dann ging es los! 21 Schüler arbeiteten den ganzen Sonntag\, entwarfen in Kleingruppen einzelne Buchstaben verschiedenen Styles\, tüftelten an Stencils (Schablonen)\, zogen Outlines und sprühten Fill-Ins gemeinsam an die Wand. Außergewöhnlich war das Alter der Teilnehmer\, denn die Crew bestand vor allem aus Unterstufenschülern und einigen 10. Klässlern.\nKunterbunt\, fantasievoll und verspielt strahlt der Schriftzug im Musenhof. \nDanke für das … an… \nLSH: Ben aus der 10. Klasse \nH: Amelie aus der 5. Klasse und Antonia 6. Klasse\nO: Michele aus der 5. Klasse\nM: Corvina und Juana aus der 7. Klasse\nE: Elina und Johannes aus der 6.Klasse \nOF: Joshua\, Felix und Magnus aus der 5. und 6. Klasse \nTHE: Suna\, Sofia und Paula aus der 10. Klasse \nW:Leo L. aus der 7. Klasse\nO: Lukas aus der 7. Klasse\nR: Manon und Henry aus der 7. Klasse\nL: Johann aus der 8. Klasse\nD: Klaas aus der 8. Klasse \nEin großartiger Tag und ein großartiges Ergebnis! \n
URL:https://www.internatsolling.de/event/graffiti-workshop-am-19-mai/
CATEGORIES:Aktuelles
ATTACH;FMTTYPE=image/jpeg:https://www.internatsolling.de/wp-content/uploads/2019/07/Graffiti_Workshop_Wochenendprogramm_Solling.jpg
END:VEVENT
END:VCALENDAR