BEGIN:VCALENDAR
VERSION:2.0
PRODID:-//Internat Solling - ECPv4.7.3//NONSGML v1.0//EN
CALSCALE:GREGORIAN
METHOD:PUBLISH
X-WR-CALNAME:Internat Solling
X-ORIGINAL-URL:https://www.internatsolling.de
X-WR-CALDESC:Veranstaltungen für Internat Solling
BEGIN:VEVENT
DTSTART;VALUE=DATE:20240908
DTEND;VALUE=DATE:20240914
DTSTAMP:20260420T111855
CREATED:20231201T104634Z
LAST-MODIFIED:20231201T104634Z
UID:27637-1725753600-1726271999@www.internatsolling.de
SUMMARY:Grosse Wanderung
DESCRIPTION:
URL:https://www.internatsolling.de/event/grosse-wanderung-5/
LOCATION:Internat Solling\, 37603\, Holzminden\, Niedersachsen\, 37603\, Deutschland
CATEGORIES:Grosse Wanderung
ORGANIZER;CN="Internat%20Solling":MAILTO:info@internatsolling.de
END:VEVENT
END:VCALENDAR