BEGIN:VCALENDAR
VERSION:2.0
PRODID:-//Internat Solling - ECPv4.7.3//NONSGML v1.0//EN
CALSCALE:GREGORIAN
METHOD:PUBLISH
X-WR-CALNAME:Internat Solling
X-ORIGINAL-URL:https://www.internatsolling.de
X-WR-CALDESC:Veranstaltungen für Internat Solling
BEGIN:VEVENT
DTSTART;TZID=Europe/Berlin:20231013T130000
DTEND;TZID=Europe/Berlin:20231031T170000
DTSTAMP:20260421T145313
CREATED:20230111T115012Z
LAST-MODIFIED:20230111T115012Z
UID:25326-1697202000-1698771600@www.internatsolling.de
SUMMARY:Herbstferien
DESCRIPTION:
URL:https://www.internatsolling.de/event/herbstferien-4/
LOCATION:Internat Solling\, 37603\, Holzminden\, Niedersachsen\, 37603\, Deutschland
CATEGORIES:Ferien
ORGANIZER;CN="Internat%20Solling":MAILTO:info@internatsolling.de
END:VEVENT
END:VCALENDAR