BEGIN:VCALENDAR
VERSION:2.0
PRODID:-//Internat Solling - ECPv4.7.3//NONSGML v1.0//EN
CALSCALE:GREGORIAN
METHOD:PUBLISH
X-WR-CALNAME:Internat Solling
X-ORIGINAL-URL:https://www.internatsolling.de
X-WR-CALDESC:Veranstaltungen für Internat Solling
BEGIN:VEVENT
DTSTART;VALUE=DATE:20230318
DTEND;VALUE=DATE:20230319
DTSTAMP:20260423T115458
CREATED:20230320T143309Z
LAST-MODIFIED:20230320T144310Z
UID:26176-1679097600-1679183999@www.internatsolling.de
SUMMARY:Jurypreis beim Gesangswettbewerb „Vocal Hero“geht an:  Ricarda aus dem Internat Solling!
DESCRIPTION:		\n						\n						\n					\n			\n						\n				\n							So sehen Siegerinnen aus: Unterstützt von ihrem eigenen Fanclub aus Mitschüler:innen des LSH hat Ricarda am Samstagabend in einer gut gefüllten Stadthalle Holzminden den Jurypreis in der Altersklasse 15 bis 20 Jahre gewonnen. Sie konnte sich im diesjährigen Finale des Gesangswettbewerbs „Vocal Hero“\, der alljährlich von der Musikschule Holzminden gemeinsam mit „Courage! Die Gerberding-Stiftung“ unseres Altschülers Hors-Otto Gerberding und seiner Frau Kirsten durchgeführt wird\, gegen ihre drei Mitbewerberinnen durchsetzen.Ricarda hatte sich mit dem Titel „Solo Sunny“ ein besonders anspruchsvolles Lied ausgesucht\, wusste aber begleitet von der Band „Teacher‘s Finest!“ und Musikschulleiter Alexander Käberich an der Querflöte die Jury und das Publikum absolut zu überzeugen. Die vielen Proben im Vorfeld haben sich also gelohnt\, tosender Applaus begleitete Ricarda nach ihrem Auftritt zurück auf ihren Platz inmitten ihrer Mitschüler:innen\, bevor sie zur Preisverleihung erneut auf die Bühne kam und ihren Siegersong ein weiteres Mal singen durfte. Mit dem Preis der Jury verbunden ist ein Gutschein für sechs Monate Gesangsunterricht an der Musikschule.Chapeau!\, die gesamte LSH-Gemeinschaft zieht den Hut vor dieser fantastischen Leistung und gratuliert Ricarda sehr herzlich. Wir hoffen\, dass das Internat Solling im nächsten Jahr erneut bei „Vocal Hero“ vertreten sein wird und viele Zuschauer aus den Reihen des LSH die Sänger:innen unterstützen. 						\n				\n				\n				\n																										\n				\n					\n		\n					\n		\n				\n		
URL:https://www.internatsolling.de/event/jurypreis-beim-gesangswettbewerb-vocal-herogeht-an-ricarda-aus-dem-internat-solling/
LOCATION:Internat Solling\, 37603\, Holzminden\, Niedersachsen\, 37603\, Deutschland
CATEGORIES:Aktuelles
ATTACH;FMTTYPE=image/gif:https://www.internatsolling.de/wp-content/uploads/2023/03/Vocal-hero_Ricarda.gif
ORGANIZER;CN="Internat%20Solling":MAILTO:info@internatsolling.de
END:VEVENT
END:VCALENDAR