BEGIN:VCALENDAR
VERSION:2.0
PRODID:-//Internat Solling - ECPv4.7.3//NONSGML v1.0//EN
CALSCALE:GREGORIAN
METHOD:PUBLISH
X-WR-CALNAME:Internat Solling
X-ORIGINAL-URL:https://www.internatsolling.de
X-WR-CALDESC:Veranstaltungen für Internat Solling
BEGIN:VEVENT
DTSTART;VALUE=DATE:20180914
DTEND;VALUE=DATE:20180915
DTSTAMP:20260420T114709
CREATED:20180914T063026Z
LAST-MODIFIED:20190704T063201Z
UID:3073-1536883200-1536969599@www.internatsolling.de
SUMMARY:Live Painting in der Porzellanmanufaktur Fürstenberg
DESCRIPTION:		\n						\n						\n					\n			\n						\n				\n							Wenn Menschen etwas lesen\, nehmen die meisten die Schrift mit ihrem Auge wahr; wenn sie einem Konzert lauschen\, erfassen sie die Musik über den Gehörsinn. Wer hingegen synästhetisch wahrnimmt\, erlebt Sinneseindrücke auf mehrfache Weise: Geschmackserlebnisse können mit der Wahrnehmung einer geometrischen Form oder einer Farbe einhergehen und auch Töne haben Farben oder Formen. Mit diesem Phänomen beschäftigte sich die 9. Klasse in Anna Weils Kunstunterricht bereits seit dem Frühjahr. Vor allem die Verbindung von Musik und Malerei wurde thematisiert. Höhepunkt des Themas war der Besuch des Konzertes „Chers Amis – liebe Freunde“\, das im Rahmen der Niedersächsischen Musiktage am 14. September stattfand. Studierende der Hochschule für Musik\, Theater und Medien Hannover sangen in der Porzellanmanufaktur Fürstenberg unter der Leitung von François Le Roux. Und während unsere Schüler den Liedern von Francis Poulenc zum Thema Freundschaft und Beziehungen lauschten\, bemalten sie in einer Live-Painting-Aktion Teller der Porzellanmanufaktur. Die Kraft dieser visuellen Performance beeindruckte unsere 15 Schüler ebenso sehr wie die hohe Qualität der Stimmen. Es entstanden sowohl gegenständliche als auch abstrakte\, immer aber ausdrucksstarke Interpretationen des Gehörten. 						\n				\n				\n				\n																										\n				\n					\n		\n					\n		\n				\n						\n					\n			\n						\n				\n					\n			\n		\n				\n				\n					\n		\n					\n		\n				\n		
URL:https://www.internatsolling.de/event/live-painting-in-der-porzellanmanufaktur-fuerstenberg/
CATEGORIES:Aktuelles
ATTACH;FMTTYPE=image/jpeg:https://www.internatsolling.de/wp-content/uploads/2019/07/Live_Painitng_Kunst_Fuerstenberg_1.jpg
END:VEVENT
END:VCALENDAR