BEGIN:VCALENDAR
VERSION:2.0
PRODID:-//Internat Solling - ECPv4.7.3//NONSGML v1.0//EN
CALSCALE:GREGORIAN
METHOD:PUBLISH
X-WR-CALNAME:Internat Solling
X-ORIGINAL-URL:https://www.internatsolling.de
X-WR-CALDESC:Veranstaltungen für Internat Solling
BEGIN:VEVENT
DTSTART;VALUE=DATE:20190612
DTEND;VALUE=DATE:20190615
DTSTAMP:20260421T165721
CREATED:20190612T142935Z
LAST-MODIFIED:20191203T095257Z
UID:3490-1560297600-1560556799@www.internatsolling.de
SUMMARY:MINT-Camp im Solling
DESCRIPTION:Teil 2 des Weser-Fulda-Netzwerks \nNachdem dem „kick-off“ unseres neuen regionalen MINT-Netzwerkes an der Lichtenberg-Schule in Kassel (https://bit.ly/2ZEfDR0)\, war das Internat Solling vom 12.06. bis 14.06.2019 Gastgeber und Organisator des regionalen MINT-Camps „Gentechnik“. \nDas Camp stand unter dem Titel „Bakterien als Proteinfabriken“ und die Schüler unserer drei Schulen gewannen einen praxisnahen Einblick in die Herstellung von industriellen Enzymen und gentechnisch hergestellten Impfstoffen\, Hormonen und anderen Medikamenten. Inhaltlich ging es um den Transfer von artfremdem Erbgut in Bakterien\, die Isolierung von Plasmid-DNA aus Bakterien und die gezielte Manipulation von DNA. \nAm Mittwochnachmittag kamen unsere Gäste vom Marion-Dönhoff-Gymnasium aus Nienburg und vom Lichtenberg-Gymnasium aus Kassel an. Nach dem Bezug der kleinen Sporthalle wurde zunächst das Gelände erkundet. Nachdem unsere Gäste einen Eindruck von Internat gewonnen hatten\, ging es erst zu einer Stärkung zum Abendessen und dann zur Sicherheitsbelehrung für die Arbeiten im S1-Labor – gefolgt vom gemütlicheren Teil des Abends in der Teestube. \nAm Freitag ging es gleich nach dem Frühstück los. Kurze theoretische Einführungen lösten sich munter mit experimentellen Arbeiten ab und wurden nur durch eine kurze Mittagspause unterbrochen – inklusive frischer Luft und weitem Blick vom Oberhausturm. Am Abend hatten sich die Schüler eine ordentliche Pause verdient\, wurden ausgiebig mit Grillgut\, Salat und Getränken versorgt und nutzten danach das gute Wetter\, um bis zum Einbruch der Dunkelheit Beach-Volleyball zu spielen\, wobei die großartige Laune im Verlauf immer mehr LSHler anlockte und es richtig toller Abend wurde. \nNeugierig waren am nächsten Morgen Schüler und Kollegen (vom MDG war Herr Martin Reuss mitgekommen und vom LG Frau Magdalena Mertin)\, ob sich den die Arbeit des vorigen Tages gelohnt hat. Zur großen Freude zeigte sich\, dass die meisten Experimente erfolgreich verlaufen waren – und wenn einige nicht das erhoffte Ergebnis erzielten\, dann war das ein wichtiger Einblick in den Laboralltag. Auch „Laufen lernt man nicht durch hinfallen und liegenbleiben\, sondern dadurch\, dass man wieder aufsteht“. \nNach einem letzten Überblick über die beruflichen Möglichkeiten eines Wissenschaftlers haben wir unsere Gäste wieder entlassen und können nun zurückblicken auf ein erfolgreiches MINT-Camp\, dass trotz der intensiven Arbeit viel Spaß gemacht hat (s.a. Bericht des MDG: https://bit.ly/2IIeD8M). Wir freuen uns auf den dritten Teil des neuen „Weser-Fulda-MINT-Netzwerks“ in Nienburg. \n
URL:https://www.internatsolling.de/event/mint-camp-im-solling/
CATEGORIES:Aktuelles,MINT
ATTACH;FMTTYPE=image/gif:https://www.internatsolling.de/wp-content/uploads/2019/12/MINT-Camp_Solling_Juni_2019.gif
END:VEVENT
END:VCALENDAR