BEGIN:VCALENDAR
VERSION:2.0
PRODID:-//Internat Solling - ECPv4.7.3//NONSGML v1.0//EN
CALSCALE:GREGORIAN
METHOD:PUBLISH
X-WR-CALNAME:Internat Solling
X-ORIGINAL-URL:https://www.internatsolling.de
X-WR-CALDESC:Veranstaltungen für Internat Solling
BEGIN:VEVENT
DTSTART;VALUE=DATE:20190707
DTEND;VALUE=DATE:20190708
DTSTAMP:20260419T204332
CREATED:20190819T080947Z
LAST-MODIFIED:20190819T081504Z
UID:4288-1562457600-1562543999@www.internatsolling.de
SUMMARY:Modenschau des Neigungsfachs Modedesign
DESCRIPTION:		\n						\n						\n					\n			\n						\n				\n							In der letzten Abendsprache des Schuljahres 2018/2019 hatte Kunstlehrerin Anna Weil mit den Schülern des Neigungsfach „Modedesign“ eine Modenschau vorbereitet. Präsentiert wurden die Ergebnisse ihrer kreativen Arbeit. Bevor sich aber der Vorhang für Models und Designer lüftete\, gab uns Frau Weil einen Überblick zu Unterricht und Exkursionen. Jedes Schuljahr aufs Neue stellen sich die teilnehmenden Schüler die Frage nach Funktion\, Ästhetik und ökologischem Aspekt unserer Garderobe und Mode. So beschäftigen sie sich ausführlich mit der Bekleidungsindustrie\, mit fairen Arbeitsbedingungen\, Slow und Fair-Fashion\, Upcyclen und weiteren Aspekten dieses riesigen Industrie- und Konsumzweiges. Praktische Einheiten (Junges Theater in Göttingen und Besuch der Firma „Herzensangelegenheit“ in Bremen) waren bei den Schülern äußerst beliebt. Gegen Ende des Schuljahres wurden die Schüler dann selber zu Designern. Frei nach dem Motto: „We are the world – Mode mit einer sozial- und gesellschaftskritischen Botschaft“ entwarfen die Jugendlichen Kleidungsstücke. Fabi und Mariana ließen einem weißen Herrenhemd bunte Flügel wachsen; Lilly entwarf ein Sweatshirt in LSH-Farben; Emmi und Carla recycelten eine helle Jeans und bemalten das Hosenbein. Eine fröhliche Modenschau mit gut gelaunten Designerinnen und Models.Fotos: Hilmar Kolbe 						\n				\n				\n				\n					\n			\n											\n												\n											\n					\n											\n				\n									\n									\n				\n				\n					\n		\n					\n		\n				\n		
URL:https://www.internatsolling.de/event/modenschau-des-neigungsfachs-modedesign-2/
CATEGORIES:Aktuelles
ATTACH;FMTTYPE=image/gif:https://www.internatsolling.de/wp-content/uploads/2019/08/Modenschau-Neigungsfach_Modedesign.gif
END:VEVENT
END:VCALENDAR