BEGIN:VCALENDAR
VERSION:2.0
PRODID:-//Internat Solling - ECPv4.7.3//NONSGML v1.0//EN
CALSCALE:GREGORIAN
METHOD:PUBLISH
X-WR-CALNAME:Internat Solling
X-ORIGINAL-URL:https://www.internatsolling.de
X-WR-CALDESC:Veranstaltungen für Internat Solling
BEGIN:VEVENT
DTSTART;VALUE=DATE:20250522
DTEND;VALUE=DATE:20250523
DTSTAMP:20260419T131408
CREATED:20250526T064220Z
LAST-MODIFIED:20250526T105030Z
UID:32841-1747872000-1747958399@www.internatsolling.de
SUMMARY:Niki de Saint Phalle: Kunstunterricht in Klasse 11.2
DESCRIPTION:		\n						\n						\n					\n			\n						\n				\n							In diesem Schuljahr setzten sich Max und Erick aus der Klasse 11.2 mit der Künstlerin Niki de Saint Phalle in einer Präsentation auseinander. Bekannt ist die Künstlerin durch ihre riesigen\, farbenfrohen Nanas\, die auch an der Leine in Hannover zu sehen sind.In einer praktischen Arbeit ging Max den Schießbildern\, den weniger bekannten\, frühen Werken der Künstlerin nach und stellte nicht die Frau\, sondern den Mann in den Mittelpunkt. Seine Idee: der Mann\, der in Businesshemd und Krawatte seinen Alltag im Hamsterrad gesellschaftlicher Erwartungen verbringt. Genau wie bei Niki de Saint Phalles Schießbildern tauchte er ein Hemd und eine Krawatte in weißen Gips\, drapierte sie auf einer alten Leinwand und befestigte kleine mit Farbe gefüllte Luftballons auf der Gipsfläche.In einer Aktion mit der gesamten Klasse versuchten wir mit Dartpfeilen die Ballons zu zerstören\, sodass die Farbe wie Wunden\, Blut\, Verletzungen auf die Leinwand tropfte. Eine eindrückliche Erfahrung. Text + Fotos: Ingrid Jordan 						\n				\n				\n				\n					\n			\n											\n							\n									\n									\n				\n				\n					\n		\n					\n		\n				\n						\n					\n			\n						\n				\n					\n			\n		\n				\n				\n					\n		\n					\n		\n				\n		
URL:https://www.internatsolling.de/event/niki-de-saint-phalle-kunstunterricht-in-klasse-11-2/
LOCATION:Internat Solling\, 37603\, Holzminden\, Niedersachsen\, 37603\, Deutschland
CATEGORIES:Aktuelles
ATTACH;FMTTYPE=image/gif:https://www.internatsolling.de/wp-content/uploads/2025/05/Kunstprojekt-Nikii-de-St-Phalle_1.gif
ORGANIZER;CN="Internat%20Solling":MAILTO:info@internatsolling.de
END:VEVENT
END:VCALENDAR