BEGIN:VCALENDAR
VERSION:2.0
PRODID:-//Internat Solling - ECPv4.7.3//NONSGML v1.0//EN
CALSCALE:GREGORIAN
METHOD:PUBLISH
X-WR-CALNAME:Internat Solling
X-ORIGINAL-URL:https://www.internatsolling.de
X-WR-CALDESC:Veranstaltungen für Internat Solling
BEGIN:VEVENT
DTSTART;VALUE=DATE:20221123
DTEND;VALUE=DATE:20221124
DTSTAMP:20260421T104322
CREATED:20221206T100612Z
LAST-MODIFIED:20221206T112355Z
UID:25025-1669161600-1669247999@www.internatsolling.de
SUMMARY:Regionaltreffen in Hannover
DESCRIPTION:		\n						\n						\n					\n			\n						\n				\n							Viel wärmer und freundlicher kann ein Empfang nicht sein. Draußen ist es kalt und dunkel\, aber die Fenster des alten Gutshofes in Isernhagen sind hell erleuchtet und drinnen prasselt schon das Feuer im Ofen. Altschüler und Altschülerinnen aus Hannover und der Region sind eingeladen zu einem WILDen Regionaltreffen bei Barbara Haller und Gisilot von Rohr\, denn auf dem Buffet warten schon fein aufgeschnittener Rehrücken\, köstliche Salate und Saucen sowie Dessert auf die Gäste. Kurz vor dem ersten Advent sitzen rund 20 junge und ältere Ehemalige in gemütlichen Runden beieinander und unterhalten sich angeregt über die alten Zeiten\, doch durchaus auch über die neuesten Entwicklungen und Projekte aus dem Landschulheim: „Weißt du noch … damals …?!“ und „Wie geht es eigentlich der xy?!“\, hört man da. Aber eben auch: „Ah\, die neue Schulleiterin kommt also im April …“ und „eine Tennishalle wollen wir bauen!“ Dazu gibt es den guten Roten von Bernd Gisys Weingut in der Toskana und Apfelsaft aus dem LSH. Bis spät in die Nacht knistert das Feuer im Ofen und leuchten die Fenster in die Isernhägener Nacht. Danke\, Barbara und Gisilot\, für den wunderbaren Abend in eurem wunderbaren Haus! 						\n				\n				\n				\n					\n			\n											\n							\n									\n									\n				\n				\n					\n		\n					\n		\n				\n		
URL:https://www.internatsolling.de/event/regionaltreffen-in-hannover/
LOCATION:Internat Solling\, 37603\, Holzminden\, Niedersachsen\, 37603\, Deutschland
CATEGORIES:Aktuelles,Altschüler
ATTACH;FMTTYPE=image/gif:https://www.internatsolling.de/wp-content/uploads/2022/12/Regionaltreffen_Hannover_1.gif
ORGANIZER;CN="Internat%20Solling":MAILTO:info@internatsolling.de
END:VEVENT
END:VCALENDAR