BEGIN:VCALENDAR
VERSION:2.0
PRODID:-//Internat Solling - ECPv4.7.3//NONSGML v1.0//EN
CALSCALE:GREGORIAN
METHOD:PUBLISH
X-WR-CALNAME:Internat Solling
X-ORIGINAL-URL:https://www.internatsolling.de
X-WR-CALDESC:Veranstaltungen für Internat Solling
BEGIN:VEVENT
DTSTART;VALUE=DATE:20180316
DTEND;VALUE=DATE:20180317
DTSTAMP:20260419T130328
CREATED:20180316T150530Z
LAST-MODIFIED:20190703T103219Z
UID:2762-1521158400-1521244799@www.internatsolling.de
SUMMARY:Schüler aus Brasilien im Internat Solling
DESCRIPTION:		\n						\n						\n					\n			\n						\n				\n							Für 3 Monate besuchten uns 6 Schüler aus Rio de Janeiro. Sie nutzen die Zeit der Winterferien in ihrem Heimatland\, um hier ihre Deutschkenntnisse zu vertiefen und die Kultur kennenzulernen\, lebten in den Wohngruppen und integrierten sich in das Leben im Internat\, nahmen am regulären Unterricht in der 10. und 11. Klasse teil\, absolvierten Unterrichtseinheiten in der Sprachschule und fuhren in unseren Winterferien nach Österreich zum Skifahren. Mit dem Beginn der Osterferien endete ihre Zeit bei uns und sie nahmen schweren Herzens Abschied (Zwei Schüler sind schon ein paar Tage vorher abgereist und darum nicht auf dem oberen Foto). Nicht für alle ist es ein Abschied für immer\, denn zumindest zwei überlegen\, im Sommer zurückzukehren und dann bis zum Abitur zu bleiben.Es war eine schöne Zeit und wir sagen „Até a próxima!“Dieses Programm existiert seit einigen Jahren bei uns und wird in Rio de Janeiro mit zunehmendem Interesse aufgenommen. Wir können leider nur eine begrenzte Anzahl von Schülern bei uns aufnehmen und sind jetzt schon für die nächsten zwei Jahre ausgebucht. 						\n				\n				\n				\n																										\n				\n					\n		\n					\n		\n				\n						\n					\n			\n						\n				\n					\n			\n		\n				\n				\n					\n		\n					\n		\n				\n		
URL:https://www.internatsolling.de/event/schueler-aus-brasilien-im-internat-solling/
CATEGORIES:Aktuelles
ATTACH;FMTTYPE=image/jpeg:https://www.internatsolling.de/wp-content/uploads/2019/07/Austauschschueller_Brasilien_Internat_Solling.jpg
END:VEVENT
END:VCALENDAR