BEGIN:VCALENDAR
VERSION:2.0
PRODID:-//Internat Solling - ECPv4.7.3//NONSGML v1.0//EN
CALSCALE:GREGORIAN
METHOD:PUBLISH
X-WR-CALNAME:Internat Solling
X-ORIGINAL-URL:https://www.internatsolling.de
X-WR-CALDESC:Veranstaltungen für Internat Solling
BEGIN:VEVENT
DTSTART;TZID=Europe/Berlin:20210502T110000
DTEND;TZID=Europe/Berlin:20210502T160000
DTSTAMP:20260420T204657
CREATED:20201214T091815Z
LAST-MODIFIED:20201214T091815Z
UID:14503-1619953200-1619971200@www.internatsolling.de
SUMMARY:Tag der offenen Tür
DESCRIPTION:
URL:https://www.internatsolling.de/event/tag-der-offenen-tuer/
CATEGORIES:Tag der offenen Tür
END:VEVENT
END:VCALENDAR