BEGIN:VCALENDAR
VERSION:2.0
PRODID:-//Internat Solling - ECPv4.7.3//NONSGML v1.0//EN
CALSCALE:GREGORIAN
METHOD:PUBLISH
X-WR-CALNAME:Internat Solling
X-ORIGINAL-URL:https://www.internatsolling.de
X-WR-CALDESC:Veranstaltungen für Internat Solling
BEGIN:VEVENT
DTSTART;VALUE=DATE:20190712
DTEND;VALUE=DATE:20190713
DTSTAMP:20260419T163439
CREATED:20190819T082145Z
LAST-MODIFIED:20190819T082432Z
UID:4301-1562889600-1562975999@www.internatsolling.de
SUMMARY:Verabschiedung in die Sommerferien
DESCRIPTION:		\n						\n						\n					\n			\n						\n				\n							Die Zeugnisse sind ausgegeben\, die Koffer gepackt und alle kommen noch ein letztes Mal in diesem Schuljahr in der Hohen Halle zusammen\, um von Schulleiterin Helga Volger offiziell in die Sommerferien verabschiedet zu werden. Wie in jedem Jahr schwingen sowohl Freude wie Wehmut mit\, denn einige Schüler verlassen die Schule und gehen zurück in ihre Heimatländer oder werden zukünftig eine andere Schule besuchen\, jeder hat dafür seine ganz persönlichen Gründe. Die Vorfreude auf sechs schöne und lange Ferienwochen überwiegt. Und bevor es tatsächlich in die Ferien geht werden noch Buchpreise verliehen für die Kandidaten aller Klassenstufen mit einem Notendurchschnitt von 2\,0 oder besser. Dr. Tanja Wegelin vergibt Urkunden und Preise für die Junior-Science-Olympiade\, Donata von Nerée an die erfolgreichen Tennisspieler und Sportlehrer René Oblong verteilt die Siegerurkunden für die guten Leistungen bei den Bundesjugendspielen. Und dann ist es tatsächlich so weit und die Sommerferien beginnen. 						\n				\n				\n				\n					\n			\n											\n												\n											\n					\n											\n				\n									\n									\n				\n				\n					\n		\n					\n		\n				\n						\n					\n			\n						\n				\n					\n			\n		\n				\n				\n					\n		\n					\n		\n				\n		
URL:https://www.internatsolling.de/event/verabschiedung-in-die-sommerferien-2/
CATEGORIES:Aktuelles
ATTACH;FMTTYPE=image/gif:https://www.internatsolling.de/wp-content/uploads/2019/08/Verabschiedung_Sommerferien_InternatSolling_14.gif
END:VEVENT
END:VCALENDAR