BEGIN:VCALENDAR
VERSION:2.0
PRODID:-//Internat Solling - ECPv4.7.3//NONSGML v1.0//EN
CALSCALE:GREGORIAN
METHOD:PUBLISH
X-WR-CALNAME:Internat Solling
X-ORIGINAL-URL:https://www.internatsolling.de
X-WR-CALDESC:Veranstaltungen für Internat Solling
BEGIN:VEVENT
DTSTART;VALUE=DATE:20210709
DTEND;VALUE=DATE:20210710
DTSTAMP:20260419T130400
CREATED:20210712T122635Z
LAST-MODIFIED:20210712T123330Z
UID:17461-1625788800-1625875199@www.internatsolling.de
SUMMARY:Verabschiedung in die Sommerferien
DESCRIPTION:		\n						\n						\n					\n			\n						\n				\n							Nach der Zeugnisübergabe in den Klassen durch die Klassenlehrer:innen kam die Schulgemeinschaft  in der Hohen Halle zur Verabschiedung in die Sommerferien zusammen. Ein ungewohntes\, aber schönes Gefühl unsere Aula wieder mit so vielen Menschen zu erleben. Alle trugen Masken und durch die weit geöffneten Türen einströmende Frischluft war es möglich\, dass Schulleiterin Helga Volger und Ihre Stellvertreterin Angela Stelzer die Schüler:innen mit Buchpreisen ehren konnten\, die eine durchschnittliche Zeugnisnote von 2\,0 oder besser hatten. Alle Schüler:innen\, die in diesem Schuljahr erfolgreich die Probezeit bestanden hatten\, wurde bei dieser Gelegenheit das LSH-Tuch bzw. die LSH-Krawatte mit der dazugehörigen LSH- Nadel überreicht. Anschließend wurden alle Anwesenden in die wohlverdienten Ferien verabschiedet.  Wir sind dankbar und glücklich dieses besondere Schuljahr gut überstanden zu haben und wünschen schöne Ferien und eine gute und erholsame Zeit.						\n				\n					\n		\n					\n		\n				\n						\n					\n			\n						\n				\n					\n			\n		\n				\n				\n					\n		\n					\n		\n				\n		
URL:https://www.internatsolling.de/event/verabschiedung-in-die-sommerferien-3/
CATEGORIES:Aktuelles
ATTACH;FMTTYPE=image/jpeg:https://www.internatsolling.de/wp-content/uploads/2021/07/Verabschiedung-Sommerferien.jpg
END:VEVENT
END:VCALENDAR