BEGIN:VCALENDAR
VERSION:2.0
PRODID:-//Internat Solling - ECPv4.7.3//NONSGML v1.0//EN
CALSCALE:GREGORIAN
METHOD:PUBLISH
X-WR-CALNAME:Internat Solling
X-ORIGINAL-URL:https://www.internatsolling.de
X-WR-CALDESC:Veranstaltungen für Internat Solling
BEGIN:VEVENT
DTSTART;VALUE=DATE:20180706
DTEND;VALUE=DATE:20180707
DTSTAMP:20260420T163307
CREATED:20180707T144151Z
LAST-MODIFIED:20190703T144541Z
UID:3004-1530835200-1530921599@www.internatsolling.de
SUMMARY:Verabschiedung in die Sommerferien
DESCRIPTION:		\n						\n						\n					\n			\n						\n				\n							Die Zeugnisse sind ausgegeben\, die Koffer gepackt und alle kommen noch ein letztes Mal in diesem Schuljahr in der Hohen Halle zusammen\, um von Schulleiterin Helga Volger offiziell in die Sommerferien verabschiedet zu werden. Wie in jedem Jahr schwingen sowohl Freude wie Wehmut mit\, denn einige Schüler verlassen die Schule und gehen zurück in ihre Heimatländer oder werden zukünftig eine andere Schule besuchen. Nach 21 Jahren verlässt uns aus persönlichen Gründen und schweren Herzensauch der beliebte Deutsch-\, Geschichts- und Politiklehrer Michael Burger.  Die Vorfreude auf sechs schöne und lange Ferienwochen überwiegt. Und bevor es tatsächlich in die Ferien geht werden noch Buchpreise verliehen für die Kandidaten aller Klassenstufen mit einem Notendurchschnitt von 2\,0 oder besser und für herausragende Leistungen im sozialen Bereich. Den „Münchhausen Preis“ hat sich der 11.-klässler Ole Dreier verdient. Dieser Preis zeichnet die Schüler aus\, die sich sozusagen mit dem Schopf aus dem Sumpf ziehen\, weil zu den Halbjahreszeugnissen noch die Versetzung gefährdet war und nun zum Ende des Schuljahres die Versetzung ganz eindeutig möglich war. Seit 2012 ist dieser Preis nicht mehr vergeben worden und setzt eine besondere Anstrengung des jeweiligen Preisträgers voraus. Herzlichen Glückwunsch\, Ole! Wer nun aber glaubt\, dass es auf dem Gelände ruhig wird\, der irrt: Im Unterhaus wird ein Speisesaal renoviert\, im Oberhaus werden weitere Wohnbereiche für Schüler grunderneuert und alle Klassenräume mit digitalen Tafeln ausgestattet\, bevor am 23. August der Unterricht weitergeht und ein neues Schuljahr beginnt. 						\n				\n				\n				\n					\n			\n											\n												\n											\n					\n											\n				\n									\n									\n				\n				\n					\n		\n					\n		\n				\n						\n					\n			\n						\n				\n					\n			\n		\n				\n				\n					\n		\n					\n		\n				\n		
URL:https://www.internatsolling.de/event/verabschiedung-in-die-sommerferien/
CATEGORIES:Aktuelles,Ferien
ATTACH;FMTTYPE=image/jpeg:https://www.internatsolling.de/wp-content/uploads/2019/07/Schuljahresende_Internat_Solling_Buchpreise.jpg
END:VEVENT
END:VCALENDAR