BEGIN:VCALENDAR
VERSION:2.0
PRODID:-//Internat Solling - ECPv4.7.3//NONSGML v1.0//EN
CALSCALE:GREGORIAN
METHOD:PUBLISH
X-WR-CALNAME:Internat Solling
X-ORIGINAL-URL:https://www.internatsolling.de
X-WR-CALDESC:Veranstaltungen für Internat Solling
BEGIN:VEVENT
DTSTART;VALUE=DATE:20190625
DTEND;VALUE=DATE:20190626
DTSTAMP:20260421T052326
CREATED:20190625T144137Z
LAST-MODIFIED:20190704T144152Z
UID:3511-1561420800-1561507199@www.internatsolling.de
SUMMARY:Verleihung des Jugendpreises der Johanniter-Hilfsgemeinschaft
DESCRIPTION:Mit unserem Projekt: „Schule hilft Schule – von Holzminden nach Uganda und zurück“ (https://www.internatsolling.de/solling-news-termine/terminkalender/eventdetail/727/93/ein-jahr-in-uganda?filter_reset=1) haben wir uns um den Jugendpreis 2019 der Johanniter-Hilfsgemeinschaft Göttingen beworben. \nLeider haben wir nicht gewonnen\, aber der olympische Gedanke zählt und mit viel Freude haben wir mit einer Schülerdelegation\, die von UNESCO-Koordinatorin Donata von Nerée begleitet wurde\, an dem Festakt der Verleihung im Festsaal des Alten Rathauses in Göttingen teilgenommen. \nhttps://www.goettinger-tageblatt.de/Die-Region/Goettingen/Johanniter-Hilfsorganisation-verleiht-Jugendpreis-an-Neue-IGS-Goettingen \n
URL:https://www.internatsolling.de/event/verleihung-des-jugendpreises-der-johanniter-hilfsgemeinschaft/
CATEGORIES:Aktuelles
ATTACH;FMTTYPE=image/jpeg:https://www.internatsolling.de/wp-content/uploads/2019/07/St_Anthonys_School_Internat_Solling_Danke-1.jpg
END:VEVENT
END:VCALENDAR