BEGIN:VCALENDAR
VERSION:2.0
PRODID:-//Internat Solling - ECPv4.7.3//NONSGML v1.0//EN
CALSCALE:GREGORIAN
METHOD:PUBLISH
X-WR-CALNAME:Internat Solling
X-ORIGINAL-URL:https://www.internatsolling.de
X-WR-CALDESC:Veranstaltungen für Internat Solling
BEGIN:VEVENT
DTSTART;VALUE=DATE:20180405
DTEND;VALUE=DATE:20180406
DTSTAMP:20260419T204901
CREATED:20180405T110433Z
LAST-MODIFIED:20190703T110723Z
UID:2801-1522886400-1522972799@www.internatsolling.de
SUMMARY:Vortrag zu Karikaturen von David Low
DESCRIPTION:		\n						\n						\n					\n			\n						\n				\n							Sir David Alexander Cecil Low\, besser bekannt als David Low\, lebte von 1891 bis 1963 und gilt heute als einer der bedeutendsten politischen Karikaturisten des 20. Jahrhunderts. Er wurde in Neuseeland geboren und übersiedelte 1919 nach England. In den dreißiger Jahren trat Low besonders durch antifaschistische Karikaturen hervor\, in denen er die Politik der kontinentaleuropäischen faschistischen Regime mit beißendem Spott attackierte und die europäischen Diktatoren\, namentlich Hitler und Franco\, in unversöhnlichen Bildern durch satirische Bloßstellung und Überzeichnung zum Gespött machte. Gerade in Bezug auf Adolf Hitler hatte er schon sehr früh\, nämlich bereits 1930\, dessen Gefährlichkeit erkannt. In Nazideutschland waren seine Karikaturen darum auch verboten. In Großbritannien wurde er durch seine feine und kritische Beobachtungsgabe zu einem offiziellen Kriegskünstler. Die bekanntesten Hitler-Karikaturen stellte uns der in Eschershausen lebende Historiker Dr. Wolfram Ender in der Abendsprache vom 5. April vor. Seine Form der Darstellung der historischen Hintergründe war ausgesprochen aufschlussreich. Wir danken Dr. Ender und werden ihn sicherlich gern wieder zu uns einladen. 						\n				\n				\n				\n					\n			\n		\n				\n				\n					\n		\n					\n		\n				\n						\n					\n			\n						\n				\n					\n			\n		\n				\n				\n					\n		\n					\n		\n				\n		
URL:https://www.internatsolling.de/event/vortrag-zu-karikaturen-von-david-low/
CATEGORIES:Abendsprache,Aktuelles
ATTACH;FMTTYPE=image/jpeg:https://www.internatsolling.de/wp-content/uploads/2019/07/Vortrag_Karikaturen_David_Low_Internat_Solling.jpg
END:VEVENT
END:VCALENDAR