BEGIN:VCALENDAR
VERSION:2.0
PRODID:-//Internat Solling - ECPv4.7.3//NONSGML v1.0//EN
CALSCALE:GREGORIAN
METHOD:PUBLISH
X-WR-CALNAME:Internat Solling
X-ORIGINAL-URL:https://www.internatsolling.de
X-WR-CALDESC:Veranstaltungen für Internat Solling
BEGIN:VEVENT
DTSTART;VALUE=DATE:20231123
DTEND;VALUE=DATE:20231124
DTSTAMP:20260419T143147
CREATED:20231124T083836Z
LAST-MODIFIED:20231124T103437Z
UID:27565-1700697600-1700783999@www.internatsolling.de
SUMMARY:Wie machen es die Profis? Die Junior-Ingenieur-Akademie bei Bertram Elektrotechnik
DESCRIPTION:		\n						\n						\n					\n			\n						\n				\n							Am Donnerstagabend war das Neigungsfach Technik mit Frau Gensheimer aus dem MakerSpace bei Bertram Elektrotechnik in Bevern zu Gast.Wenn es auf den Webseiten des Internats heißt: „Das Internat liegt wunderschön in den sanften Hügeln des Sollings\, oberhalb von Holzminden im südlichen Niedersachsen…“ dann klingt das nach ländlicher Idylle – das ist aber nur die halbe Wahrheit\, hier gibt es neben Idylle auch HighTech\, wie bei unserem Besuch deutlich wurde. Jendrik und Matthias Bertram hatten uns schon erwartet und führten uns gleich in die Fertigungshalle. Die Produktpalette\, vom Schaltschrank bis zum komplexen Industrieautomaten\, war schon sehr beeindruckend. Spannend auch\, Einblicke in die Abläufe von der Planung bis zur Prüfung des fertigen Produktes zu bekommen und wie das Unternehmen dabei Elektrotechnik\, Anlagenbau\, Bildverarbeitung und Softwareentwicklung zu einem Produkt integriert. Das wird uns sicherlich auch einige Impulse für die Junior Ingenieur Akademie von Dr. André de Kathen geben\, in der wir auch versuchen\, Mechanik\, Elektrotechnik und Informatik zu verbinden und kleine Produkte zu entwickeln.Unser herzlicher Dank geht an Matthias und Jendrik Bertram für ihre Zeit und die spannenden Einblicke in aktuelle Projekte und Abläufe. 						\n				\n				\n				\n					\n			\n											\n							\n									\n									\n				\n				\n					\n		\n					\n		\n				\n						\n					\n			\n						\n				\n					\n			\n		\n				\n				\n					\n		\n					\n		\n				\n		
URL:https://www.internatsolling.de/event/wie-machen-es-die-profis-die-junior-ingenieur-akademie-bei-bertram-elektrotechnik/
LOCATION:Internat Solling\, 37603\, Holzminden\, Niedersachsen\, 37603\, Deutschland
CATEGORIES:Aktuelles,MINT
ATTACH;FMTTYPE=image/gif:https://www.internatsolling.de/wp-content/uploads/2023/11/Junior-Ingenieur-Akademie_Bertram01.gif
ORGANIZER;CN="Internat%20Solling":MAILTO:info@internatsolling.de
END:VEVENT
END:VCALENDAR