BEGIN:VCALENDAR
VERSION:2.0
PRODID:-//Internat Solling - ECPv4.7.3//NONSGML v1.0//EN
CALSCALE:GREGORIAN
METHOD:PUBLISH
X-WR-CALNAME:Internat Solling
X-ORIGINAL-URL:https://www.internatsolling.de
X-WR-CALDESC:Veranstaltungen für Internat Solling
BEGIN:VEVENT
DTSTART;VALUE=DATE:20250426
DTEND;VALUE=DATE:20250428
DTSTAMP:20260419T164152
CREATED:20250508T142659Z
LAST-MODIFIED:20250508T143617Z
UID:32712-1745625600-1745798399@www.internatsolling.de
SUMMARY:Wochenendausflug in den Heide Park – Nervenkitzel\, Sonne und Gemeinschaft
DESCRIPTION:		\n						\n						\n					\n			\n						\n				\n							Am Wochenende des 26. und 27. April 2025 begab sich Kam Fernández Díaz gemeinsam mit den Jungs aus dem Akazienhaus und Schülervater Herrn Schulte auf einen erlebnisreichen Ausflug in den Heide Park Soltau. Zwei Tage voller Spaß\, Nervenkitzel und echter Gemeinschaft lagen vor uns.Nach der Ankunft und dem Check-in ging es voller Vorfreude direkt los: Unser Ziel war es\, die berühmten „Top Seven“ – die spektakulärsten Achterbahnen des Parks – an beiden Tagen mindestens einmal zu fahren. Schon am Samstag erwarteten uns zahlreiche Highlights\, bevor wir den Abend entspannt beim All-you-can-eat-Buffet im Holiday Camp ausklingen ließen. Übernachtet wurde in gemütlichen Hütten direkt auf dem Gelände – das gemeinsame Übernachten machte das Erlebnis noch intensiver und persönlicher.Auch am Sonntag zeigte sich der Park von seiner besten Seite: strahlender Sonnenschein\, milde Temperaturen und kurze Wartezeiten ermöglichten es uns\, fast ohne Unterbrechung alle Attraktionen zu genießen. Von 10 bis 18 Uhr fuhren wir unsere Lieblingsbahnen gleich mehrfach und erlebten viele unvergessliche Momente.Dieser Ausflug war eine willkommene Abwechslung vom Alltag und stärkte den Zusammenhalt der Gruppe.Am Sonntagabend kehrten wir müde\, aber glücklich und voller Eindrücke ans Internat zurück – mit vielen Geschichten im Gepäck\, die uns noch lange begleiten werden. Text + Fotos: Denis Fernández Díaz 						\n				\n				\n				\n																										\n				\n					\n		\n					\n		\n				\n		
URL:https://www.internatsolling.de/event/wochenendausflug-in-den-heide-park-nervenkitzel-sonne-und-gemeinschaft/
LOCATION:Internat Solling\, 37603\, Holzminden\, Niedersachsen\, 37603\, Deutschland
CATEGORIES:Aktuelles
ATTACH;FMTTYPE=image/gif:https://www.internatsolling.de/wp-content/uploads/2025/05/Heide-Park_Kam-Fernandez.gif
ORGANIZER;CN="Internat%20Solling":MAILTO:info@internatsolling.de
END:VEVENT
END:VCALENDAR