BEGIN:VCALENDAR
VERSION:2.0
PRODID:-//Internat Solling - ECPv4.7.3//NONSGML v1.0//EN
CALSCALE:GREGORIAN
METHOD:PUBLISH
X-WR-CALNAME:Internat Solling
X-ORIGINAL-URL:https://www.internatsolling.de
X-WR-CALDESC:Veranstaltungen für Internat Solling
BEGIN:VEVENT
DTSTART;VALUE=DATE:20250121
DTEND;VALUE=DATE:20250122
DTSTAMP:20260422T052452
CREATED:20250205T130202Z
LAST-MODIFIED:20250205T130837Z
UID:31982-1737417600-1737503999@www.internatsolling.de
SUMMARY:„Frischer Wind: Impressionismus im Norden“ - Exkursion der Kunstkurse
DESCRIPTION:		\n						\n						\n					\n			\n						\n				\n							Die Kunst-Leistungskurse der 12. Stufe und die Prüfungskurse der 12. und 13. Stufe besuchten am Dienstag\, den 21. Januar 2025 das Landesmuseum Hannover\, um die Sonderausstellung „Frischer Wind: Impressionismus im Norden“ zu sehen.Wir hatten die Gelegenheit\, beeindruckende Werke der Impressionisten aus nächster Nähe zu betrachten und ihre Darstellung von Licht und Atmosphäre in Themen wie Stadt\, Strand und Garten hautnah erleben zu können. Die Ausstellung zeigt über 80 Werke verschiedener Künstler\, darunter Anne Ancher\, Peder Severin Krøyer\, Max Liebermann und Lovis Corinth\, deren charakteristischer Pinselduktus und meisterhafte Farbgestaltung es zu entdecken galt…  Ein weiterer Schwerpunkt des Besuchs war Caspar David Friedrichs „Tageszeitenzyklus“. Dieser Zyklus\, bestehend aus vier Gemälden\, hält die unterschiedlichen Stimmungen des Tages fest und besticht durch seine geheimnisvolle Atmosphäre und die tiefgründige Symbolik. Das Landesmuseum präsentiert anlässlich zum 250. Geburtstag des Künstlers den einzigen vollständigen Tageszeitenzyklus an einem Ort. Friedrich gilt als der wichtigste Landschaftsmaler der deutschen Romantik und der Tageszeitenzyklus ist tief im Gesamtwerk des Künstlers verankert. Die Werke faszinieren durch die Verbindung von Natur und Mensch\, meisterhaft umgesetzt in romantischen Landschaften in naturalistischer Malweise.  Den Kunstwerken näherten wir uns durch Gespräche vor den Originalen\, durch Skizzen zur Komposition vor selbst gewählten Arbeiten. Ebenso konnten Fragen zu Künstlern und den jeweiligen Epochen gestellt werden\, die sich vor den ausgestellten Werken ergaben. Im Gespräch vor den Originalen zwischen SchülerInnen und LehrerInnen wurden die Kunstwerke neu entdeckt und in ein neues Licht gestellt. Die Exkursion in die Welt der Originale hat sich gelohnt und war eine besondere Erfahrung für uns. Es war wirklich ein sehr besonderer Ausflug! Text: Lotte (Klasse 12)\,Teilnehmende Lehrerinnen und Lehrer: Dr. Julia Diekmann\, Ingrid Jordan\, Frank Raendchen und Anna Weil 						\n				\n				\n				\n																										\n				\n					\n		\n					\n		\n				\n						\n					\n			\n						\n				\n					\n			\n		\n				\n				\n					\n		\n					\n		\n				\n		
URL:https://www.internatsolling.de/event/frischer-wind-impressionismus-im-norden-exkursion-der-kunstkurse/
LOCATION:Internat Solling\, 37603\, Holzminden\, Niedersachsen\, 37603\, Deutschland
CATEGORIES:Aktuelles
ATTACH;FMTTYPE=image/gif:https://www.internatsolling.de/wp-content/uploads/2025/02/Kunst_Exkursion_IntenratSolling_2_Januar-2025.gif
ORGANIZER;CN="Internat%20Solling":MAILTO:info@internatsolling.de
END:VEVENT
END:VCALENDAR