BEGIN:VCALENDAR
VERSION:2.0
PRODID:-//Internat Solling - ECPv4.7.3//NONSGML v1.0//EN
CALSCALE:GREGORIAN
METHOD:PUBLISH
X-WR-CALNAME:Internat Solling
X-ORIGINAL-URL:https://www.internatsolling.de
X-WR-CALDESC:Veranstaltungen für Internat Solling
BEGIN:VEVENT
DTSTART;TZID=Europe/Berlin:20250221T130000
DTEND;TZID=Europe/Berlin:20250305T190000
DTSTAMP:20260421T212311
CREATED:20250109T105721Z
LAST-MODIFIED:20250109T105721Z
UID:31709-1740142800-1741201200@www.internatsolling.de
SUMMARY:Winterferien
DESCRIPTION:
URL:https://www.internatsolling.de/event/winterferien-6/
LOCATION:Internat Solling\, 37603\, Holzminden\, Niedersachsen\, 37603\, Deutschland
CATEGORIES:Ferien
ORGANIZER;CN="Internat%20Solling":MAILTO:info@internatsolling.de
END:VEVENT
BEGIN:VEVENT
DTSTART;VALUE=DATE:20250304
DTEND;VALUE=DATE:20250306
DTSTAMP:20260421T212311
CREATED:20250424T065029Z
LAST-MODIFIED:20250424T065634Z
UID:32513-1741046400-1741219199@www.internatsolling.de
SUMMARY:Gute Aufgaben intelligent gestellt: Die Pädagogischen Tage 2025
DESCRIPTION:In Anknüpfung an die Pädagogischen Tage im vergangenen Jahr und im Hinblick auf einen schülerorientierteren Unterricht der Zukunft drehte sich am 4. und 5. März 2025 für das Kollegium alles um die Frage\, was eine gute Aufgabe ausmacht. Fünf Lehrkräfte bilden sich seit dem letzten Herbst in der Pädagogischen Werkstatt „Lernen – individuell und gemeinsam“ des Schulverbands Blick über den Zaun weiter und teilten ihr Wissen in Workshops mit dem Kollegium.\n„Das Lernen anders anlegen“ – eine Didaktik der Vielfalt\nGute Aufgaben wecken Interesse\, regen auf vielfältige Weise an und fordern zur selbständigen kognitiven Auseinandersetzung auf. Sie zielen nicht auf ein vorgedachtes Ergebnis ab\, sie laden vielmehr dazu ein\, dass Lernende sich selbst Ziele stecken und Wege und Methoden erproben\, um sie zu erreichen. Dazu gehören neben Selbstvertrauen und Erfolgserlebnissen selbstverständlich Erfahrungen des Scheiterns und Frustrationstoleranz. Letztlich geht es darum\, dass eben diejenigen Fähigkeiten entwickelt werden\, die später in einer (akademischen) Ausbildung und im Berufsleben erforderlich sind: Mit dem passenden Knowhow ausgerüstet die richtigen Fragen zu stellen\, um Antworten und Lösungen zu finden – getreu dem uralten Desideratum\, dass wir nicht für die Schule\, sondern für das Leben lernen.\nLernen begleiten statt lenken\nDer Lehrkraft instruiert nicht primär\, sondern sie berät; sie bereitet genau durchdachte Lernsettings vor und hat stets im Blick\, worauf sich der Fokus einer Aufgabe richtet und wie die Rahmenbedingungen idealerweise aussehen müssen\, damit Lernen gelingt. Liegt der Schwerpunkt der Aufgabe auf dem Erkunden und Ordnen oder stehen Argumentieren und Urteilen im Vordergrund? Über wieviel Zeit verfügen wir\, welche Räumlichkeiten sollen genutzt werden\, welche Materialien werden gebraucht? Und nicht zuletzt: Wie formuliert man die Aufgabe klar und eindeutig\, ohne einzuengen? Wer es nicht bereits wusste\, dem wurde klar: Gute didaktische Arbeit ist komplex und zeitaufwändig\, sowohl in der Vorbereitung als auch in der Durchführung.\nTeambildung\, freie Lernzeiten\, künstliche Intelligenz\nGenau deshalb ist eine passende Organisation des Arbeitsalltags und eine kluge Nutzung von Ressourcen erforderlich. Die Arbeit im Team und das Teilen von Materialien\, Erfahrungen und Wissen bedeuten zunächst einen zusätzlichen Aufwand an Kraft und Zeit\, zahlen sich aber am Ende aus. Ein hochwertiger Material-Pool kommt der Schulgemeinschaft ebenso zugute wie die der kollegiale Austausch. Eine offene und angstfreie Zusammenarbeit der Lehrkräfte ist die Basis für freies und eigenverantwortliches Arbeiten der ihnen Anvertrauten. Außerdem müssen für freies Lernen freie Lernzeiten eingeräumt werden\, die den Fachunterricht partiell ersetzen und dem selbst bestimmten Arbeiten dienen. Daher ist dies ist ein aktueller Schwerpunkt der gegenwärtigen Schulentwicklungsarbeit. Hinzu kommt der neue Faktor „KI“: Damit künstliche Intelligenz nicht primär eigenes Denken ersetzt\, sind Lehrerinnen und Lehrer dazu aufgefordert\, sich intensiv mit den Risiken ungelenkten KI-Gebrauchs auseinanderzusetzen. Ebenso aber auch mit der sinnvollen Einbindung in eine zeitgemäße Didaktik.\nWorkshop „Lehren und Lernen mit KI“\nEinen Einblick in die Möglichkeiten\, die künstliche Intelligenz ihren Nutzern beim Lehren und Lernen bietet\, vermittelte der Altphilologe Rudolf Henneböhl. Seit ChatGPT die Klassenräume und digitalen Endgeräte erreicht hat\, befasst sich Herr Henneböhl mit den Chancen und Grenzen von KI-gestützter Didaktik. Waren seine Ideen zunächst primär auf den Lateinunterricht zugeschnitten\, hat er das Spektrum im Rahmen seiner Fortbildungsveranstaltungen erweitert und uns eine ganze Palette an Anwendungsmöglichkeiten und Prompt-Beispielen mitgebracht. Nach einem Überblick\, den er morgens in seinem Impulsvortrag vermittelte\, lernte das gesamte Kollegium in zwei Workshop-Durchgängen zahlreiche Anwendungs-Optionen kennen. Zum weiteren Ausprobieren gab er uns zusätzlich anregende Materialien an die Hand. Er war zudem abends Gast bei der formidablen Küchenfete\, die Stephan Heit mit seinem Team ausrichtete\, sodass sich auch dort noch Gelegenheit zum Austausch bot.\nProjekttage 2025\nArbeit und Vergnügen des ersten Tages mündeten am zweiten in eine produktive Planung von Projekttagen\, die vom 7. bis zum 8. Juli die ganze Schulgemeinschaft einbinden sollen. Das Spektrum reicht vom Ökosystem Teich über Vogelkunde\, Waldpflege\, Radioaktivität\, Klimawandel\, Licht und Schatten bis zum Abi-Kompass. In den fachübergreifend zusammengesetzten Gruppen wurde voller Eifer geplant und nachgedacht\, und bei der abschließenden Vorstellung der Ergebnisse herrschte allgemeine Begeisterung. Dass aus der theoretischen und exemplarischen Vorarbeit konkrete Vorhaben entstanden waren und dass diese noch im laufenden Schuljahr umgesetzt werden\, erfüllte die Beteiligten mit Zufriedenheit. Insgesamt wurde eine positive Bilanz gezogen\, und der besondere Dank gilt in diesem Zusammenhang den Referentinnen und Referenten\, der Geschäftsführung und dem Küchenteam sowie allen\, die zum Gelingen der Pädagogischen Tage beigetragen haben. \nText + Bilder: Ellen Runte \n\n\n\n\n
URL:https://www.internatsolling.de/event/gute-aufgaben-intelligent-gestellt-die-paedagogischen-tage-2025/
LOCATION:Internat Solling\, 37603\, Holzminden\, Niedersachsen\, 37603\, Deutschland
CATEGORIES:Aktuelles
ATTACH;FMTTYPE=image/gif:https://www.internatsolling.de/wp-content/uploads/2025/04/Paedagogische_Tagung_InternatSolling_1.gif
ORGANIZER;CN="Internat%20Solling":MAILTO:info@internatsolling.de
END:VEVENT
BEGIN:VEVENT
DTSTART;VALUE=DATE:20250305
DTEND;VALUE=DATE:20250306
DTSTAMP:20260421T212311
CREATED:20250306T114108Z
LAST-MODIFIED:20250306T145810Z
UID:32190-1741132800-1741219199@www.internatsolling.de
SUMMARY:Regionaltreffen in Hamburg: Ein Abend voller Erinnerungen und neuer Impulse
DESCRIPTION:Am Mittwoch\, dem 5. März\, war es so weit: Es fand wieder ein Regionaltreffen in Hamburg statt. Silke Deburba (Abi 1987) öffnete die Türen ihres Hauses im Hamburger Nordosten und lud zu einem geselligen Abend voller guter Gespräche\, Erinnerungen und neuer Begegnungen ein.\nDie Atmosphäre war stimmungsvoll – Kerzenlicht tauchte die Räume in warmes Licht\, ein köstliches Buffet wartete auf die Gäste und erfreute mit dem feinen Crémant die Gaumen der Gäste. Obwohl leider viele der angemeldeten Gäste zumeist krankheitsbedingt kurzfristig abgesagt hatten\, erlebten die Anwesenden einen intensiven und bereichernden Abend. Es war eine bunte Mischung aus älteren\, jüngeren und ganz jungen Altschülerinnen und Altschülern\, und natürlich sind sowieso alle jung geblieben\, wenn sie von ihrer Zeit am LSH erzählen. Lustige Geschichten und lebhafte Diskussionen prägten die Gespräche – es wurde wieder einmal deutlich\, wie stark die gemeinsamen Erinnerungen und Erfahrungen generationenübergreifend alle Landschulheimer und Landschulheimerinnen verbinden.\nEin besonderer Moment des Abends war der Beitrag von Lotte\, seit dem vergangenen Sommer Stipendiatin am LSH. Sympathisch und unprätentiös erzählte sie\, wie sie als Stipendiatin ans LSH kam\, was sie dazu motivierte\, sich zu bewerben\, und wie sie ihre ersten Monate dort erlebt hat. Ihre Begeisterung war ansteckend\, ihre Dankbarkeit für die Chance\, am LSH lernen und leben zu dürfen\, berührte viele der Anwesenden sehr. Die Alumni hörten gespannt zu\, stellten zahlreiche Fragen und waren beeindruckt\, wie reflektiert und leidenschaftlich Lotte über ihre Erfahrungen sprach.\nEin zufälliger Glückstreffer des Abends war es\, dass mit Paul (Abi 2024) und Oliver ein engagiertes Tandem des im letzten Jahr gestarteten und bald in die zweite Runde gehenden Mentorenprogramms anwesend war. Spontan berichtete Paul über seine Erfahrungen als Mentee\, erzählte von hilfreichen Gesprächen und motivierenden Begegnungen\, die dieses Programm ermöglicht. Seine Worte regten vielleicht und hoffentlich den ein oder anderen Alumni dazu an\, sich ebenfalls als Mentor zu engagieren und die nächste Generation von LSH-Schülerinnen und -Schülern zu begleiten.\nSo war dieser Abend nicht nur ein Wiedersehen mit alten Freunden\, sondern auch eine Gelegenheit\, den besonderen Geist des LSH wieder aufleben zu lassen. Geschichten aus vergangenen Zeiten vermischten sich mit neuen Impulsen und Ideen für die Zukunft. Die Gemeinschaft lebt weiter\, getragen von gemeinsamen Werten\, Erinnerungen und der Freude am Austausch. Ein herzliches Dankeschön an Silke für ihre wunderbare Gastfreundschaft – es war ein unvergesslicher Abend\, der uns allen noch lange in Erinnerung bleiben wird. Und das nächste Treffen in Hamburg ist schon in trockenen Tüchern. Wir mussten sogar ausdiskutieren\, wer das ausrichten darf. Hamburg\, meine Perle\, Du bist super! \n \n
URL:https://www.internatsolling.de/event/regionaltreffen-in-hamburg-ein-abend-voller-erinnerungen-und-neuer-impulse/
LOCATION:Internat Solling\, 37603\, Holzminden\, Niedersachsen\, 37603\, Deutschland
CATEGORIES:Aktuelles,Altschüler
ATTACH;FMTTYPE=image/gif:https://www.internatsolling.de/wp-content/uploads/2025/03/Regionaltreffen_Hamburg_2025_1.gif
ORGANIZER;CN="Internat%20Solling":MAILTO:info@internatsolling.de
END:VEVENT
END:VCALENDAR