BEGIN:VCALENDAR
VERSION:2.0
PRODID:-//Internat Solling - ECPv4.7.3//NONSGML v1.0//EN
CALSCALE:GREGORIAN
METHOD:PUBLISH
X-WR-CALNAME:Internat Solling
X-ORIGINAL-URL:https://www.internatsolling.de
X-WR-CALDESC:Veranstaltungen für Internat Solling
BEGIN:VEVENT
DTSTART;VALUE=DATE:20250503
DTEND;VALUE=DATE:20250504
DTSTAMP:20260421T130409
CREATED:20250505T134220Z
LAST-MODIFIED:20250505T142957Z
UID:32626-1746230400-1746316799@www.internatsolling.de
SUMMARY:Frühjahrsputz auf der Springwiese – Ein starkes Zeichen für den Reitsport am Internat Solling
DESCRIPTION:		\n						\n						\n					\n			\n						\n				\n							Am vergangenen Samstag wurde die Springwiese des Internats Solling in neuem Glanz erweckt. Durch die Initiative von Altschüler und Schülervater Martin Bammel\, unterstützt von seiner Frau\, fand ein engagierter Arbeitseinsatz statt\, der nicht nur die Reitanlage verschönerte\, sondern auch den Gemeinschaftssinn der LSH-Reitstall-Familie stärkte.Insgesamt 14 Helferinnen und Helfer\, darunter Eltern\, Schülerinnen und Schüler sowie die ehemalige Leiterin des Reitbereichs\, Frau Dr. Albert-Meisieck\, die den Reitsport einst ans LSH brachte\, packten tatkräftig mit an. Von 10 bis 18 Uhr wurde der große Wall begradigt\, alte Baumstämme entfernt und durch neue ersetzt\, Bäume und Büsche gestutzt sowie ein neuer Zaun errichtet.Dieser Einsatz markiert einen wichtigen Schritt in der Weiterentwicklung des Reitangebots am Internat Solling. Während in der Vergangenheit der Fokus auf der Dressur lag\, wächst nun das Interesse am Springreiten unter den Schülerinnen und Schülern. Die neu gestaltete Springwiese bietet hierfür\, neben unserem Reitplatz am Unterhaus\, ideale Bedingungen und zeigt\, wie durch gemeinschaftliches Engagement neue Impulse gesetzt werden können.Ein herzlicher Dank gilt allen Beteiligten für ihren Einsatz und ihre Unterstützung.  						\n				\n				\n				\n					\n			\n											\n							\n									\n									\n				\n				\n					\n		\n					\n		\n				\n						\n					\n			\n						\n				\n					\n			\n		\n				\n				\n					\n		\n					\n		\n				\n		
URL:https://www.internatsolling.de/event/fruehjahrsputz-auf-der-springwiese-ein-starkes-zeichen-fuer-den-reitsport-am-internat-solling/
LOCATION:Internat Solling\, 37603\, Holzminden\, Niedersachsen\, 37603\, Deutschland
CATEGORIES:Aktuelles,Sport
ATTACH;FMTTYPE=image/gif:https://www.internatsolling.de/wp-content/uploads/2025/05/Springwiese_Reitstall_Solling_3.gif
ORGANIZER;CN="Internat%20Solling":MAILTO:info@internatsolling.de
END:VEVENT
END:VCALENDAR