BEGIN:VCALENDAR
VERSION:2.0
PRODID:-//Internat Solling - ECPv4.7.3//NONSGML v1.0//EN
CALSCALE:GREGORIAN
METHOD:PUBLISH
X-WR-CALNAME:Internat Solling
X-ORIGINAL-URL:https://www.internatsolling.de
X-WR-CALDESC:Veranstaltungen für Internat Solling
BEGIN:VEVENT
DTSTART;VALUE=DATE:20250916
DTEND;VALUE=DATE:20250917
DTSTAMP:20260420T201603
CREATED:20250917T145131Z
LAST-MODIFIED:20250917T145523Z
UID:33263-1757980800-1758067199@www.internatsolling.de
SUMMARY:Call for Artists Ausschreibung: 1. Skulpturen-Sommer
DESCRIPTION:		\n						\n						\n					\n			\n						\n				\n							 Ausschreibung: Skulpturen-Sommer im Internat SollingFür den Sommer 2026 ist ein Skulpturen-Sommer am Internat Solling ausgeschrieben. Auf dem parkähnlichen Gelände des Internats sollen regionale\, nationale und internationale Bildhauer:innen\, Studierende von Kunsthochschulen sowie Teilnehmende niedersächsischer Kunst-Leistungskurse ihre Werke präsentieren.Ergänzend ist eine begleitende Kleinskulpturenausstellung im Kulturzentrum des Landkreises Holzminden vorgesehen.Darüber hinaus wird über ein Rahmenprogramm mit Musik\, Führungen und Lesungen nachgedacht\, ebenso über die Herausgabe eines Gesamtkatalogs.Das Projekt möchte einen Brückenschlag zwischen Natur\, Landschaft und Kunst sowie zwischen Bildungseinrichtung und Stadt\, Kreis und Land schaffen – als Beitrag zur „Kunst im ländlichen Raum“.						\n				\n				\n				\n					\n			\n						\n									Ausschreibung für den Skulpturen-Sommer\n					\n					\n		\n				\n				\n					\n		\n					\n		\n				\n						\n					\n			\n						\n				\n					\n			\n		\n				\n				\n					\n		\n					\n		\n				\n		
URL:https://www.internatsolling.de/event/call-for-artists-ausschreibung-1-skulpturen-sommer/
LOCATION:Internat Solling\, 37603\, Holzminden\, Niedersachsen\, 37603\, Deutschland
CATEGORIES:Aktuelles,Altschüler
ATTACH;FMTTYPE=image/jpeg:https://www.internatsolling.de/wp-content/uploads/2024/08/Drohenphoto2_Julius-scaled.jpg
ORGANIZER;CN="Internat%20Solling":MAILTO:info@internatsolling.de
END:VEVENT
END:VCALENDAR