BEGIN:VCALENDAR
VERSION:2.0
PRODID:-//Internat Solling - ECPv4.7.3//NONSGML v1.0//EN
CALSCALE:GREGORIAN
METHOD:PUBLISH
X-WR-CALNAME:Internat Solling
X-ORIGINAL-URL:https://www.internatsolling.de
X-WR-CALDESC:Veranstaltungen für Internat Solling
BEGIN:VEVENT
DTSTART;VALUE=DATE:20260124
DTEND;VALUE=DATE:20260125
DTSTAMP:20260420T201145
CREATED:20260126T142550Z
LAST-MODIFIED:20260126T150258Z
UID:33936-1769212800-1769299199@www.internatsolling.de
SUMMARY:Faschingsball im Internat Solling – Feste als Teil unserer pädagogischen Kultur
DESCRIPTION:		\n						\n						\n					\n			\n						\n				\n							Feste und Feiern sind ein fester Bestandteil der Rhythmisierung im Internat Solling. Sie strukturieren das Zusammenleben ebenso selbstverständlich wie Unterrichtszeiten und gemeinsame Mahlzeiten. Ein besonderes Highlight im Jahreslauf ist unser traditioneller Faschingsball zur Karnevalszeit\, der Gemeinschaft\, Kreativität und Lebensfreude verbindet. In diesem Jahr fand der Faschingsball bewusst etwas früher statt\, damit auch die Schüler:innen der 11. Jahrgangsstufe teilnehmen konnten. Für sie beginnt in Kürze ein dreiwöchiges Berufspraktikum – ein wichtiger Schritt auf dem Weg zur Berufsorientierung. Unter dem diesjährigen Motto „Zeitreise“ entstand ein stimmungsvolles Fest\, das von Kunstlehrerin und Hausleiterin Anna als Mentorin des Sozialen Dienstes „Feste und Feiern“ gemeinsam mit ihrem Team organisiert wurde. Unterstützt von vielen engagierten Schüler:innen verwandelte sich die Kleine Sporthalle in einen Ort voller Fantasie\, Musik und guter Laune. Eine besondere Unterstützung erhielt der Abend durch den LSH-Bund\, den Verein der ehemaligen Schülerinnen und Schüler\, der die Kosten für die mobile Soundtechnik übernahm. Dank professioneller Lautsprecher\, Subwoofer und Mischpult stand einem ausgelassenen Tanzabend nichts im Wege. Es wurde getanzt\, gelacht\, gefeiert und die fantasievollen Kostüme bewundert. Das beste Kostüm des Abends – Johan als Justin Bieber – wurde frenetisch gefeiert und mit einer Tüte Gummibärchen sowie großem Applaus ausgezeichnet. Ein Abend\, der zeigt\, wie lebendig Gemeinschaft im Internat Solling gelebt wird. 						\n				\n					\n		\n					\n		\n				\n						\n					\n			\n						\n				\n					\n			\n		\n				\n				\n					\n		\n					\n		\n				\n		
URL:https://www.internatsolling.de/event/faschingsball-im-internat-solling-feste-als-teil-unserer-paedagogischen-kultur/
LOCATION:Internat Solling\, 37603\, Holzminden\, Niedersachsen\, 37603\, Deutschland
CATEGORIES:Aktuelles,Altschüler
ATTACH;FMTTYPE=image/gif:https://www.internatsolling.de/wp-content/uploads/2026/01/Faschingsball_InternatSolling_2.gif
ORGANIZER;CN="Internat%20Solling":MAILTO:info@internatsolling.de
END:VEVENT
BEGIN:VEVENT
DTSTART;VALUE=DATE:20260124
DTEND;VALUE=DATE:20260125
DTSTAMP:20260420T201145
CREATED:20260205T130112Z
LAST-MODIFIED:20260205T134214Z
UID:33966-1769212800-1769299199@www.internatsolling.de
SUMMARY:Leonhard erneut fürs GYPT-Bundesfinale qualifiziert!
DESCRIPTION:		\n						\n						\n					\n			\n						\n				\n							Feste und Feiern sind ein fester Bestandteil der Rhythmisierung im Internat Solling. Sie strukturieren das Zusammenleben ebenso selbstverständlich wie Unterrichtszeiten und gemeinsame Mahlzeiten. Ein besonderes Highlight im Jahreslauf ist unser traditioneller Faschingsball zur Karnevalszeit\, der Gemeinschaft\, Kreativität und Lebensfreude verbindet. In diesem Jahr fand der Faschingsball bewusst etwas früher statt\, damit auch die Schüler:innen der 11. Jahrgangsstufe teilnehmen konnten. Für sie beginnt in Kürze ein dreiwöchiges Berufspraktikum – ein wichtiger Schritt auf dem Weg zur Berufsorientierung. Unter dem diesjährigen Motto „Zeitreise“ entstand ein stimmungsvolles Fest\, das von Kunstlehrerin und Hausleiterin Anna als Mentorin des Sozialen Dienstes „Feste und Feiern“ gemeinsam mit ihrem Team organisiert wurde. Unterstützt von vielen engagierten Schüler:innen verwandelte sich die Kleine Sporthalle in einen Ort voller Fantasie\, Musik und guter Laune. Eine besondere Unterstützung erhielt der Abend durch den LSH-Bund\, den Verein der ehemaligen Schülerinnen und Schüler\, der die Kosten für die mobile Soundtechnik übernahm. Dank professioneller Lautsprecher\, Subwoofer und Mischpult stand einem ausgelassenen Tanzabend nichts im Wege. Es wurde getanzt\, gelacht\, gefeiert und die fantasievollen Kostüme bewundert. Das beste Kostüm des Abends – Johan als Justin Bieber – wurde frenetisch gefeiert und mit einer Tüte Gummibärchen sowie großem Applaus ausgezeichnet. Ein Abend\, der zeigt\, wie lebendig Gemeinschaft im Internat Solling gelebt wird. 						\n				\n					\n		\n					\n		\n				\n						\n					\n			\n						\n				\n					\n			\n		\n				\n				\n					\n		\n					\n		\n				\n		
URL:https://www.internatsolling.de/event/leonhard-erneut-fuers-gypt-bundesfinale-qualifiziert/
LOCATION:Internat Solling\, 37603\, Holzminden\, Niedersachsen\, 37603\, Deutschland
CATEGORIES:Aktuelles,MINT
ATTACH;FMTTYPE=image/gif:https://www.internatsolling.de/wp-content/uploads/2026/02/GYPT_MINT_InternatSolling_2026_01.gif
ORGANIZER;CN="Internat%20Solling":MAILTO:info@internatsolling.de
END:VEVENT
END:VCALENDAR